Workbook

Sheet сводная
L1: Додаток №1 до Програми соціально-економічного та культурного розвитку м.Курахове на 2019 рік
A5: Заходи
A6: щодо забезпечення виконання Плану соціально-економічного розвитку м. Курахове
A7: на 2019 рік
A9: Розділ | B9: Термін виконання | C9: Витрати на реалізацію, тис.грн.
C10: Всього | E10: у тому числі за рахунок коштів:
E11: державного бюджету (субвенція) | G11: місцевих бюджетів | K11: підприємств | M11: інших джерел
G12: обласного бюджету | I12: місцевий бюджет
C13: план | D13: факт | E13: план | F13: факт | G13: план | H13: факт | I13: план | J13: факт | K13: план | L13: факт | M13: план | N13: факт
A14: теплопостачання | B14: 2019 | C14: =E14+G14+I14+K14+M14 -> 1564.579 | D14: =F14+H14+J14+L14+N14 -> 0 | E14: ='заходи-2019'!F24 -> 0 | F14: 0 | G14: ='заходи-2019'!G24 -> 0 | H14: 0 | I14: ='заходи-2019'!H24 -> 490.979 | J14: 0 | K14: ='заходи-2019'!I24 -> 1073.6 | L14: 0 | M14: ='заходи-2019'!J24 -> 0 | N14: 0
A15: газ | C15: =E15+G15+I15+K15+M15 -> 0 | D15: =F15+H15+J15+L15+N15 -> 0 | E15: =SUM(E14:E14) -> 0 | F15: =SUM(F14:F14) -> 0 | G15: =SUM(G14:G14) -> 0 | H15: =SUM(H14:H14) -> 0 | I15: 0 | J15: ='[1] теплопостачання '!L21 -> 0 | K15: 0 | L15: 0 | M15: =SUM(M14:M14) -> 0 | N15: 0
A16: водопостачання та водовідведення | C16: =E16+G16+I16+K16+M16 -> 1229.6 | D16: =F16+H16+J16+L16+N16 -> 0 | E16: ='заходи-2019'!F29 -> 0 | F16: =SUM(F15:F15) -> 0 | G16: ='заходи-2019'!G29 -> 0 | H16: =SUM(H15:H15) -> 0 | I16: ='заходи-2019'!H29 -> 1009.5 | J16: ='[1] теплопостачання '!L22 -> 0 | K16: ='заходи-2019'!I29 -> 220.1 | L16: 0 | M16: ='заходи-2019'!J29 -> 0 | N16: 0
A17: житлове господарство | C17: =M17+K17+I17+E17 -> 6283.017 | D17: =F17+H17+J17+L17+N17 -> 0 | E17: 0 | F17: =SUM(F16:F16) -> 0 | G17: 0 | H17: =SUM(H16:H16) -> 0 | I17: ='заходи-2019'!H9 -> 1110.557 | J17: ='[1]житло '!L23 -> 0 | K17: ='заходи-2019'!I9 -> 5162.46 | L17: 0 | M17: ='заходи-2019'!J9 -> 10 | N17: 0
A18: створення ОСББ | C18: =M18+K18+I18+E18 -> 15 | D18: =F18+H18+J18+L18+N18 -> 0 | E18: ='заходи-2019'!F21 -> 0 | F18: 0 | G18: ='заходи-2019'!G21 -> 0 | H18: 0 | I18: ='заходи-2019'!H21 -> 0 | J18: 0 | K18: ='заходи-2019'!I21 -> 15 | L18: 0 | M18: ='заходи-2019'!J21 -> 0 | N18: 0
A19: благоустрій | C19: =E19+G19+I19+K19+M19 -> 32606.537 | D19: =F19+H19+J19+L19+N19 -> 0 | E19: 0 | F19: =SUM(F17:F17) -> 0 | G19: 0 | H19: =SUM(H17:H17) -> 0 | I19: ='заходи-2019'!H34 -> 32606.537 | J19: =[1]благоустройство!L58 -> 0 | K19: ='заходи-2019'!I34 -> 0 | L19: 0 | M19: 0 | N19: 0
A20: архітектура | C20: =M20+K20+I20+E20 -> 900 | D20: =F20+H20+J20+L20+N20 -> 0 | E20: ='заходи-2019'!F72 -> 0 | F20: =SUM(F19:F19) -> 0 | G20: ='заходи-2019'!G72 -> 0 | H20: =SUM(H19:H19) -> 0 | I20: ='заходи-2019'!H72 -> 900 | J20: =[1]архітектура!L18 -> 0 | K20: ='заходи-2019'!I72 -> 0 | L20: 0 | M20: ='заходи-2019'!J72 -> 0 | N20: 0
A21: всього | C21: =SUM(C14:C20) -> 42598.733 | D21: =SUM(D14:D20) -> 0 | E21: =SUM(E14:E20) -> 0 | F21: =SUM(F14:F20) -> 0 | G21: =SUM(G14:G20) -> 0 | H21: =SUM(H14:H20) -> 0 | I21: =SUM(I14:I20) -> 36117.573 | J21: =SUM(J14:J20) -> 0 | K21: =SUM(K14:K20) -> 6471.16 | L21: 0 | M21: =SUM(M14:M20) -> 10 | N21: 0
A24: Секретар ради Н.Є. Пужайло

Sheet заходи-2019
J1: Продовження Додатку №1 до Програми соціально-економічного та культурного розвитку м.Курахове на 2019 рік
A3: № з/п | B3: Зміст заходу | C3: Термін виконан- ня | D3: Виконавець | E3: Витрати на реалізацію, тис.грн. | K3: Очікуваний результат
E4: Всього | F4: у тому числі за рахунок коштів:
F5: Держав- ного бюджету | G5: місцевих бюджетів | I5: підпри- ємств | J5: інших джерел | K5: найменування показника | L5: значення показника
G6: облас- ного бюджету | H6: бюджету міст і районів
A7: 2 | B7: 3 | C7: 4 | D7: 5 | E7: 6 | F7: 7 | G7: 8 | H7: 9 | I7: 10 | J7: 11 | K7: 12 | L7: 13
A9: 1 | B9: Забезпечення якісного управління житловим фондом та поліпшення умов проживання мешканців | E9: =E10+E15+E16+E17+E18+E20 -> 6283.017 | F9: =F10+F15+F16+F17+F18+F20 -> 0 | G9: =G10+G15+G16+G17+G18+G20 -> 0 | H9: =H10+H15+H16+H17+H18+H20 -> 1110.557 | I9: =I10+I15+I16+I17+I18+I20 -> 5162.46 | J9: =J10+J15+J16+J17+J18+J20 -> 10
A10: 1.1 | B10: Реконструкція / капітальний ремонт житлових будинків, з них | E10: =E11+E14 -> 910.557 | F10: =F11+F14 -> 0 | G10: =G11+G14 -> 0 | H10: =H11+H14 -> 910.557 | I10: =I11+I14 -> 0 | J10: =J11+J14 -> 0
A11: 1.1.1 | B11: Реконструкція / капітальний ремонт житлових будинків (будівельних конструкцій, інженерних комунікацій) | E11: =E12+E13 -> 910.557 | F11: =F12+F13 -> 0 | G11: =G12+G13 -> 0 | H11: =H12+H13 -> 910.557 | I11: =I12+I13 -> 0 | J11: =J12+J13 -> 0
A12: 1.1.1.1 | B12: Реконструкція фасадів та прибудинкової території житлового будинку № 21 по вул. Мечнікова в м. Курахове | C12: 2019 | D12: Курахівська міська рада | E12: =SUM(F12:J12) -> 586.542 | H12: 586.542
A13: 1.1.1.3 | B13: Реконструкція фасадів та прибудинкової території житлового будинку № 22 по вул. Пушкіна в м. Курахове | C13: 2019 | D13: Курахівська міська рада | E13: =SUM(F13:J13) -> 324.015 | H13: 324.015
A14: 1.1.2 | B14: Реконструкція/капітальний ремонт житлових будинків з застосуванням заходів з енергоефективності
A15: 1.2 | B15: Поточний ремонт житлового фонду комунальної власності територіальної громади м.Курахове | C15: 2019 | D15: КП "МСЕЗ" | E15: =SUM(F15:J15) -> 5162.46 | I15: 5162.46 | K15: од. | L15: 172
A16: 1.3 | B16: Капітальний ремонт, модернізація, заміна, експертна оцінка ліфтів
A17: 1.4 | B17: Створення безбар’єрного середовища для осіб з інвалідністю | C17: 2019 | D17: Курахівська міська рада | E17: =F17+G17+H17+I17+J17 -> 10 | J17: 10
A18: 1.5 | B18: Реконструкція та ремонт об’єктів з метою компактного проживання внутрішньо переміщених осіб
A19: 1.6 | B19: Відновлення систем аптоматичного протипожежного захисту в будинках підвищеної поверховості
A20: 1.7 | B20: Технічне обслуговування мереж мереж газопостачаня у м. Курахове Мар'їнского району Донецької області | C20: 2019 | D20: Курахівська міська рада | E20: =SUM(F20:J20) -> 200 | H20: 200
A21: 2. | B21: Підтримка житлового фонду при створені та функціонуванні об'єднаннь співвласників багатоквартирних будинків | E21: =E22+E23 -> 15 | F21: =F22+F23 -> 0 | G21: =G22+G23 -> 0 | H21: =H22+H23 -> 0 | I21: =I22+I23 -> 15 | J21: =J22+J23 -> 0
A22: 2.1. | B22: Місцева Програма підтримки ОСББ (у разі наявності) | E22: =F22+G22+H22+I22+J22 -> 0
A23: 2.2. | B23: Інші заходи спрямовані на підтримку ОСББ (проведення ремонтів, надання фінпідтримки інше) | E23: =F23+G23+H23+I23+J23 -> 15 | I23: 15
A24: 3. | B24: Забезпечення реалізації заходів з капітального ремонту та реконструкції теплового господарства | E24: =SUM(E25:E28) -> 1564.579 | F24: =SUM(F25:F28) -> 0 | G24: =SUM(G25:G28) -> 0 | H24: =SUM(H25:H28) -> 490.979 | I24: =SUM(I25:I28) -> 1073.6 | J24: =J25+J28 -> 0
A25: 3.1. | B25: Заміна розподільної лінінї тепломережі кварталу пр-т Запорізький 34а - пр-т Соборний 15,17 м. Курахове із використаням ПІТ | C25: 2019 | D25: Курахівська ТЕС | E25: =SUM(F25:J25) -> 303.2 | I25: 303.2 | K25: п.м у однотрубному вимірюванні | L25: 186
A26: 3.2. | B26: Поточний ремонт теплокамер | C26: 2019 | D26: Курахівська міська рада | E26: =SUM(F26:J26) -> 283.623 | H26: 283.623
A27: 3.3. | B27: Заміна теплоізоляції лінії зовнішніх тепломереж по просп. Запорізький від діспетчерського пункту до буд. № 12 по пров. Базарний | C27: 2019 | D27: Курахівська міська рада | E27: =SUM(F27:J27) -> 207.356 | H27: 207.356
A28: 3.4. | B28: Поточний ремонт теплових мереж | C28: 2019 | D28: Курахівська міська рада, Курахівська ТЕС | E28: =SUM(F28:J28) -> 770.4 | I28: 770.4 | K28: п.м у однотрубному вимірюванні | L28: 276
A29: 4. | B29: Забезпечення реалізації заходів з капітального ремонту та реконструкції водопровідно-каналізаційного господарства | E29: =SUM(F29:J29) -> 1229.6 | F29: =SUM(F30:F33) -> 0 | G29: =SUM(G30:G33) -> 0 | H29: =SUM(H30:H33) -> 1009.5 | I29: =SUM(I30:I33) -> 220.1 | J29: =SUM(J30:J33) -> 0
A30: 4.1 | B30: Ремонт водопрвідних мереж | C30: 2019 | D30: Курахівська ТЕС, Курахівська міська рада | E30: =SUM(F30:J30) -> 840.1 | H30: 620 | I30: 220.1 | K30: п.м. | L30: 750
A31: 4.2 | B31: Розробка техніко-економічного обгрунтування "Будівництво водоводу та споруд для с. Степанівка, с. Острівське, смт. Іллінка" | C31: 2019 | D31: Курахівська міська рада | E31: =SUM(F31:J31) -> 334.5 | H31: 334.5
A32: 4.3 | B32: Дезобробка колодязів | C32: 2019 | D32: Курахівська міська рада | E32: =SUM(F32:J32) -> 5 | H32: 5 | K32: од. | L32: 5
A33: 4.4 | B33: Облсуговування пожежних гідрантів | C33: 2019 | D33: Курахівська міська рада | E33: =SUM(F33:J33) -> 50 | H33: 50
A34: 5. | B34: Благоустрій територій населених пунктів | E34: =E35+E41+E43+E49+E50+E52+E58+E63+E64 -> 32606.537 | F34: =F35+F41+F43+F49+F50+F52+F58+F63+F64 -> 0 | G34: =G35+G41+G43+G49+G50+G52+G58+G63+G64 -> 0 | H34: =H35+H41+H43+H49+H50+H52+H58+H63+H64 -> 32606.537 | I34: =I35+I41+I43+I49+I50+I52+I58+I63+I64 -> 0 | J34: =J35+J41+J43+J49+J50+J52+J58+J63+J64 -> 0
A35: 5.1. | B35: Утримання та ремонт дорожньо-мостового господарства (комунального значення) | E35: =SUM(E36:E40) -> 10959.594 | F35: =SUM(F36:F40) -> 0 | G35: =SUM(G36:G40) -> 0 | H35: =SUM(H36:H40) -> 10959.594 | I35: =SUM(I36:I40) -> 0 | J35: =SUM(J36:J40) -> 0
A36: 5.1.1 | B36: поточний та ямковий ремонт доріг у м. Курахове, Мар'їнського району, Донецької області | C36: 2019 | D36: Курахівська міська рада | E36: =SUM(F36:J36) -> 4906 | H36: 4906 | K36: м2 | L36: 9780
A37: 5.1.2 | B37: відсипання доріг шлаком у м. Курахове Мар'їнського району Донецької області | C37: 2019 | D37: Курахівська міська рада | E37: =SUM(F37:J37) -> 846 | H37: 846 | K37: м2 | L37: 6000
A38: 5.1.3 | B38: нанесення дорожньої розмітки та встановлення дорожніх знаків у м. Курахове Мар'їнського району Донецької області | C38: 2019 | D38: Курахівська міська рада | E38: =SUM(F38:J38) -> 248 | H38: 248
A39: 5.1.4 | B39: Роботи згідно робочого проекту «Реконструкція проспекту Миру від вул. Пушкіна до вул. Побєда у м. Курахове» | C39: 2019 | D39: Курахівська міська рада | E39: =SUM(F39:J39) -> 4471.367 | H39: 4471.367
A40: 5.1.5 | B40: Розроблення проектно-кошторисної документації "Реконструкція доріг і тротуарів та благоустрою території мікрорайону "Южний" у м. Курахове Мар'їнського району Донецької області" | C40: 2019 | D40: Курахівська міська рада | E40: =SUM(F40:J40) -> 488.227 | H40: 488.227
A41: 5.2. | B41: Утримання, ремонт та очищення зливових каналізаційних, дренажних систем і колодязів населених пунктів області | E41: =E42 -> 500 | F41: =F42 -> 0 | G41: =G42 -> 0 | H41: =H42 -> 500 | I41: =I42 -> 0 | J41: =J42 -> 0
A42: 5.2.1 | B42: Технічне обслуговування зливової каналізації у м. Курахове Мар'їнского району Донецької області | C42: 2019 | D42: Курахівська міська рада | E42: =SUM(F42:J42) -> 500 | H42: 500 | K42: п.м. | L42: 726
...
