Workbook

Sheet сводная
K1: Додаток №1 до Програми соціально-економічного та культурного розвитку м.Курахове на 2020 рік
A2: Заходи
A3: щодо забезпечення виконання Плану соціально-економічного розвитку м. Курахове
A4: на 2020 рік
A6: Розділ | B6: Термін виконання | C6: Витрати на реалізацію, тис.грн.
C7: Всього | E7: у тому числі за рахунок коштів:
E8: державного бюджету (субвенція) | G8: місцевих бюджетів | K8: підприємств | M8: інших джерел
G9: обласного бюджету | I9: місцевий бюджет
C10: план | D10: факт | E10: план | F10: факт | G10: план | H10: факт | I10: план | J10: факт | K10: план | L10: факт | M10: план | N10: факт
A11: теплопостачання | B11: 2020 | C11: =E11+G11+I11+K11+M11 -> 4975 | D11: =F11+H11+J11+L11+N11 -> 0 | E11: ='заходи-2020'!G22 -> 0 | F11: 0 | G11: ='заходи-2020'!I22 -> 0 | H11: 0 | I11: ='заходи-2020'!K22 -> 4000 | J11: ='заходи-2020'!L22 -> 0 | K11: ='заходи-2020'!M22 -> 975 | L11: ='заходи-2020'!N22 -> 0 | M11: ='заходи-2020'!O22 -> 0 | N11: 0
A12: газ | C12: =E12+G12+I12+K12+M12 -> 0 | D12: =F12+H12+J12+L12+N12 -> 0 | E12: =SUM(E11:E11) -> 0 | F12: =SUM(F11:F11) -> 0 | G12: =SUM(G11:G11) -> 0 | H12: =SUM(H11:H11) -> 0 | I12: 0 | J12: ='[1] теплопостачання '!L21 -> 0 | K12: 0 | L12: 0 | M12: =SUM(M11:M11) -> 0 | N12: 0
A13: водопостачання та водовідведення | C13: =E13+G13+I13+K13+M13 -> 989.598 | D13: =F13+H13+J13+L13+N13 -> 0 | E13: ='заходи-2020'!G27 -> 0 | F13: ='заходи-2020'!H27 -> 0 | G13: ='заходи-2020'!I27 -> 0 | H13: ='заходи-2020'!J27 -> 0 | I13: ='заходи-2020'!K27 -> 75 | J13: ='заходи-2020'!L27 -> 0 | K13: ='заходи-2020'!M27 -> 914.598 | L13: ='заходи-2020'!N27 -> 0 | ... N13: ='заходи-2020'!P27 -> 0
A14: житлове господарство | C14: =E14+G14+I14+K14+M14 -> 6051.97 | D14: =F14+H14+J14+L14+N14 -> 0 | E14: ='заходи-2020'!G9 -> 0 | F14: ='заходи-2020'!H9 -> 0 | G14: ='заходи-2020'!I9 -> 0 | H14: ='заходи-2020'!J9 -> 0 | I14: ='заходи-2020'!K9 -> 260.7 | J14: ='заходи-2020'!L9 -> 0 | K14: ='заходи-2020'!M9 -> 5781.27 | L14: ='заходи-2020'!N9 -> 0 | ... N14: ='заходи-2020'!P9 -> 0
A15: створення ОСББ | C15: =E15+G15+I15+K15+M15 -> 15 | D15: =F15+H15+J15+L15+N15 -> 0 | E15: ='заходи-2020'!G19 -> 0 | F15: ='заходи-2020'!H19 -> 0 | G15: ='заходи-2020'!I19 -> 0 | H15: ='заходи-2020'!J19 -> 0 | I15: ='заходи-2020'!K19 -> 0 | J15: ='заходи-2020'!L19 -> 0 | K15: ='заходи-2020'!M19 -> 0 | L15: ='заходи-2020'!N19 -> 0 | ... N15: ='заходи-2020'!P19 -> 0
A16: газопостачання | C16: =E16+G16+I16+K16+M16 -> 72 | D16: =F16+H16+J16+L16+N16 -> 0 | E16: ='заходи-2020'!G33 -> 0 | F16: ='заходи-2020'!H33 -> 0 | G16: ='заходи-2020'!I34 -> 0 | H16: ='заходи-2020'!J34 -> 0 | I16: ='заходи-2020'!K33 -> 72 | J16: ='заходи-2020'!L33 -> 0 | K16: ='заходи-2020'!M34 -> 0 | L16: ='заходи-2020'!N33 -> 0 | M16: ='заходи-2020'!O33 -> 0 | N16: ='заходи-2020'!P33 -> 0
A17: благоустрій | C17: =E17+G17+I17+K17+M17 -> 27910.838 | D17: =F17+H17+J17+L17+N17 -> 0 | E17: ='заходи-2020'!G35 -> 0 | F17: ='заходи-2020'!H35 -> 0 | G17: ='заходи-2020'!I35 -> 0 | H17: ='заходи-2020'!J35 -> 0 | I17: ='заходи-2020'!K35 -> 27910.838 | J17: ='заходи-2020'!L35 -> 0 | K17: ='заходи-2020'!M35 -> 0 | L17: ='заходи-2020'!N35 -> 0 | ... N17: ='заходи-2020'!P35 -> 0
A18: архітектура | C18: =E18+G18+I18+K18+M18 -> 1000 | D18: =F18+H18+J18+L18+N18 -> 0 | E18: ='заходи-2020'!G67 -> 0 | F18: ='заходи-2020'!H67 -> 0 | G18: ='заходи-2020'!I67 -> 0 | H18: ='заходи-2020'!J67 -> 0 | I18: ='заходи-2020'!K67 -> 1000 | J18: ='заходи-2020'!L67 -> 0 | K18: ='заходи-2020'!M67 -> 0 | L18: ='заходи-2020'!N67 -> 0 | ... N18: ='заходи-2020'!P67 -> 0
A19: всього | C19: =SUM(C11:C18) -> 41014.406 | D19: =SUM(D11:D18) -> 0 | E19: =SUM(E11:E18) -> 0 | F19: =SUM(F11:F18) -> 0 | G19: =SUM(G11:G18) -> 0 | H19: =SUM(H11:H18) -> 0 | I19: =SUM(I11:I18) -> 33318.538 | J19: =SUM(J11:J18) -> 0 | ... N19: =SUM(N11:N18) -> 0
A21: Секретар ради Н.Є. Пужайло

Sheet заходи-2020
P1: Додаток №1 до Програми соціально-економічного та культурного розвитку м.Курахове на 2020 рік
A3: № з/п | B3: Зміст заходу | C3: Термін виконан- ня | D3: Виконавець | E3: Витрати на реалізацію, тис.грн. | Q3: Очікуваний результат
E4: Всього | G4: у тому числі за рахунок коштів:
G5: Держав- ного бюджету | I5: місцевих бюджетів | M5: підпри- ємств | O5: інших джерел | Q5: найменування показника | R5: значення показника
I6: облас- ного бюджету | K6: бюджету міст і районів
E7: план | F7: факт | G7: план | H7: факт | I7: план | J7: факт | K7: план | L7: факт | M7: план | N7: факт | O7: план | P7: факт | R7: план | S7: факт
A8: 2 | B8: 3 | C8: 4 | D8: 5 | E8: 6 | F8: 7 | G8: 8 | H8: 9 | I8: 10 | J8: 11 | K8: 12 | L8: 13 | M8: 14 | N8: 15 | O8: 16 | P8: 17 | Q8: 18 | R8: 19 | S8: 20
A9: 1 | B9: Забезпечення якісного управління житловим фондом та поліпшення умов проживання мешканців | E9: =E10+E13+E14+E15+E16+E18 -> 6051.97 | F9: =F10+F13+F14+F15+F16+F18 -> 0 | G9: =G10+G13+G14+G15+G16+G18 -> 0 | H9: =H10+H13+H14+H15+H16+H18 -> 0 | I9: =I10+I13+I14+I15+I16+I18 -> 0 | J9: =J10+J13+J14+J15+J16+J18 -> 0 | K9: =K10+K13+K14+K15+K16+K18 -> 260.7 | L9: =L10+L13+L14+L15+L16+L18 -> 0 | ... P9: =P10+P13+P14+P15+P16+P18 -> 0
A10: 1.1 | B10: Реконструкція / капітальний ремонт житлових будинків, з них | E10: =E11+E12 -> 0 | F10: =F11+F12 -> 0 | G10: =G11+G12 -> 0 | H10: =H11+H12 -> 0 | I10: =I11+I12 -> 0 | J10: =J11+J12 -> 0 | K10: =K11+K12 -> 0 | L10: =L11+L12 -> 0 | ... P10: =P11+P12 -> 0
A11: 1.1.1 | B11: Реконструкція / капітальний ремонт житлових будинків (будівельних конструкцій, інженерних комунікацій)
A12: 1.1.2 | B12: Реконструкція/капітальний ремонт житлових будинків з застосуванням заходів з енергоефективності
A13: 1.2 | B13: Поточний ремонт житлового фонду комунальної власності територіальної громади м.Курахове | C13: 2020 | D13: КП "МСЕЗ" КМР" | E13: =G13+I13+K13+M13+O13 -> 5781.27 | F13: =H13+J13+L13+N13+P13 -> 0 | M13: 5781.27 | Q13: од. | R13: 173
A14: 1.3 | B14: Капітальний ремонт, модернізація, заміна, експертна оцінка ліфтів
A15: 1.4 | B15: Створення безбар’єрного середовища для осіб з інвалідністю (влаштування під'їздів для інвалідів) | C15: 2020 | D15: Мешканці міста | E15: =G15+I15+K15+M15+O15 -> 10 | F15: =H15+J15+L15+N15+P15 -> 0 | O15: 10
A16: 1.5 | B16: Реконструкція та ремонт об’єктів з метою компактного проживання внутрішньо переміщених осіб
A17: 1.6 | B17: Відновлення систем автоматичного протипожежного захисту в будинках підвищеної поверховості
A18: 1.7 | B18: Технічне обслуговування мереж газопостачаня у м. Курахове Мар'їнского району Донецької області | C18: 2020 | D18: Курахівська міська рада | E18: =G18+I18+K18+M18+O18 -> 260.7 | F18: =H18+J18+L18+N18+P18 -> 0 | K18: 260.7
A19: 2. | B19: Підтримка житлового фонду при створені та функціонуванні об'єднань співвласників багатоквартирних будинків | E19: =G19+I19+K19+M19+O19 -> 15 | F19: =H19+J19+L19+N19+P19 -> 0 | G19: =G20+G21 -> 0 | H19: =H20+H21 -> 0 | I19: =I20+I21 -> 0 | J19: =J20+J21 -> 0 | K19: =K20+K21 -> 0 | L19: =L20+L21 -> 0 | M19: =M20+M21 -> 0 | N19: =N20+N21 -> 0 | ... P19: =P20+P21 -> 0
A20: 2.1. | B20: Місцева Програма підтримки ОСББ (у разі наявності) | E20: =G20+I20+K20+M20+O20 -> 0 | F20: =H20+J20+L20+N20+P20 -> 0
A21: 2.2. | B21: Інші заходи спрямовані на підтримку ОСББ ( проведення ремонтів, надання фінпідтримки інше) | D21: Мешканці міста | E21: =G21+I21+K21+M21+O21 -> 15 | F21: =H21+J21+L21+N21+P21 -> 0 | O21: 15
A22: 3. | B22: Забезпечення реалізації заходів з капітального ремонту та реконструкції теплового господарства | E22: =G22+I22+K22+M22+O22 -> 4975 | F22: =H22+J22+L22+N22+P22 -> 0 | G22: =SUM(G23:G26) -> 0 | I22: =SUM(I23:I26) -> 0 | K22: =SUM(K23:K26) -> 4000 | L22: =L23+L24+L25+L26 -> 0 | M22: =SUM(M23:M26) -> 975 | N22: =SUM(N23:N26) -> 0 | O22: =O23+O26 -> 0 | P22: =P23+P26 -> 0
A23: 3.1. | B23: Заміна квартальної лінінї тепломережі по вул. Енергетиків | C23: 2020 | D23: Курахівська ТЕС | E23: =G23+I23+K23+M23+O23 -> 260 | F23: =H23+J23+L23+N23+P23 -> 0 | M23: 260 | Q23: п.м у однотрубному вимірюванні | R23: 700
A24: 3.2. | B24: Поточний ремонт теплокамер | C24: 2020 | D24: Курахівська міська рада | E24: =G24+I24+K24+M24+O24 -> 1000 | F24: =H24+J24+L24+N24+P24 -> 0 | K24: 1000
A25: 3.3. | B25: Заміна теплоізоляції лінії зовнішніх тепломереж | C25: 2020 | D25: Курахівська міська рада | E25: =G25+I25+K25+M25+O25 -> 3000 | F25: =H25+J25+L25+N25+P25 -> 0 | K25: 3000 | Q25: п.м.
A26: 3.2. | B26: Ремонт і заміна теплових мереж | C26: 2020 | D26: Курахівська ТЕС, Курахівська міська рада | E26: =G26+I26+K26+M26+O26 -> 715 | F26: =H26+J26+L26+N26+P26 -> 0 | M26: 715 | Q26: п.м у однотрубному вимірюванні | R26: 450
A27: 4. | B27: Забезпечення реалізації заходів з капітального ремонту та реконструкції водопровідно-каналізаційного господарства | E27: =G27+I27+K27+M27+O27 -> 989.598 | F27: =H27+J27+L27+N27+P27 -> 0 | G27: =SUM(G28:G32) -> 0 | H27: =SUM(H28:H32) -> 0 | I27: =SUM(I28:I32) -> 0 | J27: =SUM(J28:J32) -> 0 | K27: =SUM(K28:K32) -> 75 | L27: =SUM(L28:L32) -> 0 | M27: =SUM(M28:M32) -> 914.598 | N27: =SUM(N28:N32) -> 0 | ... P27: =SUM(P28:P32) -> 0
A28: 4.1 | B28: Ремонт водопровідних мереж | C28: 2020 | D28: Курахівська ТЕС, Курахівська міська рада | E28: =G28+I28+K28+M28+O28 -> 180 | F28: =H28+J28+L28+N28+P28 -> 0 | M28: 180 | Q28: п.м. | R28: 750
A29: 4.2 | B29: Розробка техніко-економічного обгрунтування "Будівництво водоводу та споруд для с. Степанівка, с. Острівське, смт. Іллінка" | C29: 2020 | D29: Курахівська міська рада | E29: =G29+I29+K29+M29+O29 -> 0 | F29: =H29+J29+L29+N29+P29 -> 0
A30: 4.3 | B30: Поточний ремонт та обслуговування зовнішніх мереж та об'єктів системи водовідведення | C30: 2020 | D30: КП "МСЕЗ" КМР" | E30: =G30+I30+K30+M30+O30 -> 734.598 | F30: =H30+J30+L30+N30+P30 -> 0 | M30: 734.598 | Q30: п.м. | R30: 280
A31: 4.4 | B31: Дезобробка колодязів | C31: 2020 | D31: Курахівська міська рада | E31: =G31+I31+K31+M31+O31 -> 25 | F31: =H31+J31+L31+N31+P31 -> 0 | K31: 25 | Q31: од. | R31: 5
A32: 4.5 | B32: Облсуговування пожежних гідрантів | C32: 2020 | D32: Курахівська міська рада | E32: =G32+I32+K32+M32+O32 -> 50 | F32: =H32+J32+L32+N32+P32 -> 0 | K32: 50
A33: 5 | B33: Забезпечення реалізації заходів з ремонту та технічного обслуговування газового господарства | C33: 2020 | D33: Курахівська міська рада | E33: =SUM(E34) -> 72 | F33: =SUM(F34) -> 0 | G33: =SUM(G34) -> 0 | H33: =SUM(H34) -> 0 | I33: =SUM(I34) -> 0 | J33: =SUM(J34) -> 0 | K33: =SUM(K34) -> 72 | L33: =SUM(L34) -> 0 | ... P33: =SUM(P34) -> 0
A34: 5.1. | B34: Технічне обслуговування розподільчих газопроводів середнього тиску | C34: 2020 | D34: Курахівська міська рада | E34: =G34+I34+K34+M34+O34 -> 72 | F34: =H34+J34+L34+N34+P34 -> 0 | K34: 72
A35: 6. | B35: Благоустрій територій населених пунктів | E35: =G35+I35+K35+M35+O35 -> 27910.838 | F35: =H35+J35+L35+N35+P35 -> 0 | G35: =G36+G39+G41+G45+G46+G48+G55+G57+G58 -> 0 | H35: =H36+H39+H41+H45+H46+H48+H55+H57+H58 -> 0 | I35: =I36+I39+I41+I45+I46+I48+I55+I57+I58 -> 0 | J35: =J36+J39+J41+J45+J46+J48+J55+J57+J58 -> 0 | K35: =K36+K39+K41+K45+K46+K48+K55+K57+K58 -> 27910.838 | L35: =L36+L39+L41+L45+L46+L48+L55+L57+L58 -> 0 | M35: =M36+M39+M41+M45+M46+M48+M55+M57+M58 -> 0 | N35: =N36+N39+N41+N45+N46+N48+N55+N57+N58 -> 0 | ... P35: =P36+P39+P41+P45+P46+P48+P55+P57+P58 -> 0
A36: 6.1. | B36: Утримання та ремонт дорожньо-мостового господарства (комунального значення) | E36: =SUM(E37:E38) -> 10000 | F36: =SUM(F37:F38) -> 0 | G36: =SUM(G37:G38) -> 0 | H36: =SUM(H37:H38) -> 0 | I36: =SUM(I37:I38) -> 0 | J36: =SUM(J37:J38) -> 0 | K36: =SUM(K37:K38) -> 10000 | L36: =SUM(L37:L38) -> 0 | ... P36: =SUM(P37:P38) -> 0
A37: 6.1.1 | B37: Поточний та ямковий ремонт доріг, відсипання доріг шлаком, нанесення дорожньої розмітки та встановлення дорожніх знаків у м. Курахове, Мар'їнського району, Донецької області | C37: 2020 | D37: Курахівська міська рада | E37: =G37+I37+K37+M37+O37 -> 10000 | F37: =H37+J37+L37+N37+P37 -> 0 | K37: 10000
A38: 6.1.2 | B38: Роботи згідно робочого проекту «Реконструкція проспекту Миру від вул. Пушкіна до вул. Побєда у м. Курахове» | C38: 2020 | D38: Курахівська міська рада | E38: =G38+I38+K38+M38+O38 -> 0 | F38: =H38+J38+L38+N38+P38 -> 0
A39: 6.2. | B39: Утримання, ремонт та очищення зливових каналізаційних, дренажних систем і колодязів населених пунктів області | E39: =G39+I39+K39+M39+O39 -> 749.613 | F39: =H39+J39+L39+N39+P39 -> 0 | G39: =G40 -> 0 | H39: =H40 -> 0 | I39: =I40 -> 0 | J39: =J40 -> 0 | K39: =K40 -> 749.613 | L39: =L40 -> 0 | M39: =M40 -> 0 | N39: =N40 -> 0 | ... P39: =P40 -> 0
A40: 6.2.1 | B40: Технічне обслуговування зливової каналізації у м. Курахове Мар'їнского району Донецької області | C40: 2020 | D40: Курахівська міська рада | E40: =G40+I40+K40+M40+O40 -> 749.613 | F40: =H40+J40+L40+N40+P40 -> 0 | K40: 749.613 | Q40: км | R40: 9.427
A41: 6.3. | B41: Утримання, ремонт та будівництво об’єктів зовнішнього освітлення | E41: =E42+E43+E44 -> 4230.089 | F41: =F42+F43+F44 -> 0 | G41: =G42+G43+G44 -> 0 | H41: =H42+H43+H44 -> 0 | I41: =I42+I43+I44 -> 0 | J41: =J42+J43+J44 -> 0 | K41: =K42+K43+K44 -> 4230.089 | L41: =L42+L43+L44 -> 0 | ... P41: =P42+P43+P44 -> 0
...
