Workbook

Sheet сводная
J2: Додаток 1 до інформації про результати виконання Програми соціально-економічного та культурного розвитку м.Курахове за 2019 рік
A3: Заходи
A4: щодо забезпечення виконання Плану соціально-економічного розвитку м. Курахове
A5: за 2019 рік
A7: Розділ | B7: Термін виконання | C7: Витрати на реалізацію, тис.грн.
C8: Всього | E8: у тому числі за рахунок коштів:
E9: державного бюджету (субвенція) | G9: місцевих бюджетів | K9: підприємств | M9: інших джерел
G10: обласного бюджету | I10: місцевий бюджет
C11: план | D11: факт | E11: план | F11: факт | G11: план | H11: факт | I11: план | J11: факт | K11: план | L11: факт | M11: план | N11: факт
A12: теплопостачання | B12: 2019 | C12: =E12+G12+I12+K12+M12 -> 8742.919 | D12: =F12+H12+J12+L12+N12 -> 7834.658 | E12: ='заходи-2019'!H27 -> 0 | F12: 0 | G12: ='заходи-2019'!J27 -> 0 | H12: 0 | I12: ='заходи-2019'!L27 -> 7669.319 | J12: ='заходи-2019'!M27 -> 7256.894 | K12: ='заходи-2019'!N27 -> 1073.6 | L12: ='заходи-2019'!O27 -> 577.764 | M12: ='заходи-2019'!P27 -> 0 | N12: 0
A13: газ | C13: =E13+G13+I13+K13+M13 -> 0 | D13: =F13+H13+J13+L13+N13 -> 0 | E13: =SUM(E12:E12) -> 0 | F13: =SUM(F12:F12) -> 0 | G13: =SUM(G12:G12) -> 0 | H13: =SUM(H12:H12) -> 0 | I13: 0 | J13: ='[1] теплопостачання '!L21 -> 0 | K13: 0 | L13: 0 | M13: =SUM(M12:M12) -> 0 | N13: 0
A14: водопостачання та водовідведення | C14: =E14+G14+I14+K14+M14 -> 1121.18 | D14: =F14+H14+J14+L14+N14 -> 892.913 | E14: ='заходи-2019'!H32 -> 0 | F14: ='заходи-2019'!I32 -> 0 | G14: ='заходи-2019'!J32 -> 0 | H14: ='заходи-2019'!K32 -> 0 | I14: ='заходи-2019'!L32 -> 901.08 | J14: ='заходи-2019'!M32 -> 663.346 | K14: ='заходи-2019'!N32 -> 220.1 | L14: ='заходи-2019'!O32 -> 229.567 | ... N14: ='заходи-2019'!Q32 -> 0
A15: житлове господарство | C15: =E15+G15+I15+K15+M15 -> 13322.093 | D15: =F15+H15+J15+L15+N15 -> 14190.898 | E15: ='заходи-2019'!H11 -> 0 | F15: ='заходи-2019'!I11 -> 0 | G15: ='заходи-2019'!J11 -> 0 | H15: ='заходи-2019'!K11 -> 0 | I15: ='заходи-2019'!L11 -> 8149.633 | J15: ='заходи-2019'!M11 -> 8128.49 | K15: ='заходи-2019'!N11 -> 5162.46 | L15: ='заходи-2019'!O11 -> 6062.408 | ... N15: ='заходи-2019'!Q11 -> 0
A16: створення ОСББ | C16: =E16+G16+I16+K16+M16 -> 15 | D16: =F16+H16+J16+L16+N16 -> 0 | E16: ='заходи-2019'!H24 -> 0 | F16: ='заходи-2019'!I24 -> 0 | G16: ='заходи-2019'!J24 -> 0 | H16: ='заходи-2019'!K24 -> 0 | I16: ='заходи-2019'!L24 -> 0 | J16: ='заходи-2019'!M24 -> 0 | K16: ='заходи-2019'!N24 -> 15 | L16: ='заходи-2019'!O24 -> 0 | ... N16: ='заходи-2019'!Q24 -> 0
A17: благоустрій | C17: =E17+G17+I17+K17+M17 -> 31256.956 | D17: =F17+H17+J17+L17+N17 -> 30627.471 | E17: ='заходи-2019'!H37 -> 0 | F17: ='заходи-2019'!I37 -> 0 | G17: ='заходи-2019'!J37 -> 0 | H17: ='заходи-2019'!K37 -> 0 | I17: ='заходи-2019'!L37 -> 31256.956 | J17: ='заходи-2019'!M37 -> 30627.471 | K17: ='заходи-2019'!N37 -> 0 | L17: ='заходи-2019'!O37 -> 0 | ... N17: ='заходи-2019'!Q37 -> 0
A18: архітектура | C18: =E18+G18+I18+K18+M18 -> 1150 | D18: =F18+H18+J18+L18+N18 -> 1149.049 | E18: ='заходи-2019'!H80 -> 0 | F18: ='заходи-2019'!I80 -> 0 | G18: ='заходи-2019'!J80 -> 0 | H18: ='заходи-2019'!K80 -> 0 | I18: ='заходи-2019'!L80 -> 1150 | J18: ='заходи-2019'!M80 -> 1149.049 | K18: ='заходи-2019'!N80 -> 0 | L18: ='заходи-2019'!O80 -> 0 | ... N18: ='заходи-2019'!Q80 -> 0
A19: всього | C19: =SUM(C12:C18) -> 55608.148 | D19: =SUM(D12:D18) -> 54694.989 | E19: =SUM(E12:E18) -> 0 | F19: =SUM(F12:F18) -> 0 | G19: =SUM(G12:G18) -> 0 | H19: =SUM(H12:H18) -> 0 | I19: =SUM(I12:I18) -> 49126.988 | J19: =SUM(J12:J18) -> 47825.25 | ... N19: =SUM(N12:N18) -> 0
B21: Секретар ради Наталя ПУЖАЙЛО
A22: Заступник міського голови з питань діяльності виконавчих органів Курахівської міської ради Олена ІРКОБАЄВА

Sheet заходи-2019
P1: Додаток 1 до інформації про результати виконання Програми соціально-економічного та культурного розвитку м.Курахове за 2019 рік
A2: Заходи щодо виконання завдань Програми соціально-економічного та культурного розвитку м.Курахове за 2019 рік
A3: № і назва завдання Стратегії розвитку Донецької області на період до 2020 року | B3: № з/п | C3: Зміст заходу | D3: Термін виконання виконан- ня | E3: Виконавець | F3: Витрати на реалізацію, тис.грн. | R3: Очікуваний результат
F4: Всього | H4: у тому числі за рахунок коштів:
H5: Держав- ного бюджету | J5: місцевих бюджетів | N5: підпри- ємств | P5: інших джерел | R5: найменування показника | S5: значення показника
J6: облас- ного бюджету | L6: бюджету міст і районів
F7: план | G7: факт | H7: план | I7: факт | J7: план | K7: факт | L7: план | M7: факт | N7: план | O7: факт | P7: план | Q7: факт | S7: план | T7: факт
A8: 1 | B8: 2 | C8: 3 | D8: 4 | E8: 5 | F8: 6 | G8: 7 | H8: 8 | I8: 9 | J8: 10 | K8: 11 | L8: 12 | M8: 13 | N8: 14 | O8: 15 | P8: 16 | Q8: 17 | R8: 18 | S8: 19 | T8: 20
A9: Ціль 1. Економічний розвиток та підвищення зайнятості населення
A10: 3.1.7 Житлове господарство та комунальна інфраструктура
A11: 1.1.2 Забезпечувати ефективне функціонування житлово-комунального господарства та безперебійне енерго-, газо- та водопостачання об’єктів соціальної сфери, освіти, охорони здоров’я | B11: 1 | C11: Забезпечення якісного управління житловим фондом та поліпшення умов проживання мешканців | F11: =F12+F18+F19+F20+F21+F23 -> 13322.093 | G11: =G12+G18+G19+G20+G21+G23 -> 14190.898 | H11: =H12+H18+H19+H20+H21+H23 -> 0 | I11: =I12+I18+I19+I20+I21+I23 -> 0 | J11: =J12+J18+J19+J20+J21+J23 -> 0 | K11: =K12+K18+K19+K20+K21+K23 -> 0 | L11: =L12+L18+L19+L20+L21+L23 -> 8149.633 | M11: =M12+M18+M19+M20+M21+M23 -> 8128.49 | ... Q11: =Q12+Q18+Q19+Q20+Q21+Q23 -> 0
B12: 1.1 | C12: Реконструкція / капітальний ремонт житлових будинків, з них | F12: =F13+F17 -> 3410.082 | G12: =G13+G17 -> 3410.081 | H12: =H13+H17 -> 0 | I12: =I13+I17 -> 0 | J12: =J13+J17 -> 0 | K12: =K13+K17 -> 0 | L12: =L13+L17 -> 3410.082 | M12: =M13+M17 -> 3410.081 | ... Q12: =Q13+Q17 -> 0
B13: 1.1.1 | C13: Реконструкція / капітальний ремонт житлових будинків (будівельних конструкцій, інженерних комунікацій) | F13: =F14+F15+F16 -> 3410.082 | G13: =G14+G15+G16 -> 3410.081 | H13: =H14+H15+H16 -> 0 | I13: =I14+I15+I16 -> 0 | J13: =J14+J15+J16 -> 0 | K13: =K14+K15+K16 -> 0 | L13: =L14+L15+L16 -> 3410.082 | M13: =M14+M15+M16 -> 3410.081 | ... Q13: =Q14+Q15+Q16 -> 0
B14: 1.1.1.1 | C14: Реконструкція фасадів та прибудинкової території житлового будинку № 21 по вул. Мечнікова в м. Курахове | D14: 2019 | E14: Курахівська міська рада | F14: =H14+J14+L14+N14+P14 -> 1280.918 | G14: =I14+K14+M14+O14+Q14 -> 1280.917 | L14: 1280.918 | M14: 1280.917
B15: 1.1.1.2 | C15: Реконструкція фасадів та прибудинкової території житлового будинку № 22 по вул. Пушкіна в м. Курахове | D15: 2019 | E15: Курахівська міська рада | F15: =H15+J15+L15+N15+P15 -> 730.214 | G15: =I15+K15+M15+O15+Q15 -> 730.214 | L15: 730.214 | M15: 730.214
B16: 1.1.1.3 | C16: Капітальний ремонт покрівель житлових будинків №16,18 по вул. Побєди | D16: 2019 | E16: Курахівська міська рада | F16: =H16+J16+L16+N16+P16 -> 1398.95 | G16: =I16+K16+M16+O16+Q16 -> 1398.95 | L16: 1398.95 | M16: 1398.95
B17: 1.1.2 | C17: Реконструкція/капітальний ремонт житлових будинків з застосуванням заходів з енергоефективності
B18: 1.2 | C18: Поточний ремонт житлового фонду комунальної власності територіальної громади м.Курахове | D18: 2019 | E18: КП "МСЕЗ", Курахівська міська рада | F18: =H18+J18+L18+N18+P18 -> 9652.48 | G18: =I18+K18+M18+O18+Q18 -> 10541.117 | L18: 4490.02 | M18: 4478.709 | N18: 5162.46 | O18: 6062.408 | R18: од. | S18: 172
B19: 1.3 | C19: Капітальний ремонт, модернізація, заміна, експертна оцінка ліфтів
B20: 1.4 | C20: Створення безбар’єрного середовища для осіб з інвалідністю (влаштування під'їздів для інвалідів) | D20: 2019 | E20: Курахівська міська рада | F20: =H20+J20+L20+N20+P20 -> 36.4 | G20: =I20+K20+M20+O20+Q20 -> 26.4 | L20: 26.4 | M20: 26.4 | P20: 10
B21: 1.5 | C21: Реконструкція та ремонт об’єктів з метою компактного проживання внутрішньо переміщених осіб
B22: 1.6 | C22: Відновлення систем автоматичного протипожежного захисту в будинках підвищеної поверховості
B23: 1.7 | C23: Технічне обслуговування мереж газопостачаня у м. Курахове Мар'їнского району Донецької області | D23: 2019 | E23: Курахівська міська рада | F23: =H23+J23+L23+N23+P23 -> 223.131 | G23: =I23+K23+M23+O23+Q23 -> 213.3 | L23: 223.131 | M23: 213.3
B24: 2. | C24: Підтримка житлового фонду при створені та функціонуванні об'єднаннь співвласників багатоквартирних будинків | F24: =H24+J24+L24+N24+P24 -> 15 | G24: =I24+K24+M24+O24+Q24 -> 0 | H24: =H25+H26 -> 0 | I24: =I25+I26 -> 0 | J24: =J25+J26 -> 0 | K24: =K25+K26 -> 0 | L24: =L25+L26 -> 0 | M24: =M25+M26 -> 0 | N24: =N25+N26 -> 15 | O24: =O25+O26 -> 0 | ... Q24: =Q25+Q26 -> 0
B25: 2.1. | C25: Місцева Програма підтримки ОСББ (у разі наявності) | F25: =H25+J25+L25+N25+P25 -> 0 | G25: =I25+K25+M25+O25+Q25 -> 0
B26: 2.2. | C26: Інші заходи спрямовані на підтримку ОСББ ( проведення ремонтів, надання фінпідтримки інше) | F26: =H26+J26+L26+N26+P26 -> 15 | G26: =I26+K26+M26+O26+Q26 -> 0 | N26: 15
B27: 3. | C27: Забезпечення реалізації заходів з капітального ремонту та реконструкції теплового господарства | F27: =H27+J27+L27+N27+P27 -> 8742.919 | G27: =I27+K27+M27+O27+Q27 -> 7834.658 | H27: =SUM(H28:H31) -> 0 | J27: =SUM(J28:J31) -> 0 | L27: =SUM(L28:L31) -> 7669.319 | M27: =M28+M29+M30+M31 -> 7256.894 | N27: =SUM(N28:N31) -> 1073.6 | O27: =SUM(O28:O31) -> 577.764 | P27: =P28+P31 -> 0 | Q27: =Q28+Q31 -> 0
B28: 3.1. | C28: Заміна розподільної лінінї тепломережі кварталу пр-т Запорізький 34а - пр-т Соборний 15,17 м. Курахове із використанням ПІТ | D28: 2019 | E28: Курахівська ТЕС | F28: =H28+J28+L28+N28+P28 -> 303.2 | G28: =I28+K28+M28+O28+Q28 -> 303.2 | N28: 303.2 | O28: 303.2 | R28: п.м у однотрубному вимірюванні | S28: 186 | T28: 187.06
B29: 3.2. | C29: Поточний ремонт теплокамер | D29: 2019 | E29: Курахівська міська рада | F29: =H29+J29+L29+N29+P29 -> 0 | G29: =I29+K29+M29+O29+Q29 -> 0 | L29: 0 | M29: 0
B30: 3.3. | C30: Заміна теплоізоляції лінії зовнішніх тепломереж по просп. Запорізький від диспетчерського пункту до буд. № 12 по пров. Базарний | D30: 2019 | E30: Курахівська міська рада | F30: =H30+J30+L30+N30+P30 -> 2375.219 | G30: =I30+K30+M30+O30+Q30 -> 2372.248 | L30: 2375.219 | M30: 2372.248 | R30: п.м. | T30: 3210
B31: 3.4. | C31: Ремонт і заміна теплових мереж | D31: 2019 | E31: Курахівська міська рада, Курахівська ТЕС | F31: =H31+J31+L31+N31+P31 -> 6064.5 | G31: =I31+K31+M31+O31+Q31 -> 5159.21 | L31: 5294.1 | M31: 4884.646 | N31: 770.4 | O31: 274.564 | R31: п.м у однотрубному вимірюванні | S31: 276 | T31: 2238,0 / 211,04
B32: 4. | C32: Забезпечення реалізації заходів з капітального ремонту та реконструкції водопровідно-каналізаційного господарства | F32: =H32+J32+L32+N32+P32 -> 1121.18 | G32: =I32+K32+M32+O32+Q32 -> 892.913 | H32: =SUM(H33:H36) -> 0 | I32: =SUM(I33:I36) -> 0 | J32: =SUM(J33:J36) -> 0 | K32: =SUM(K33:K36) -> 0 | L32: =SUM(L33:L36) -> 901.08 | M32: =SUM(M33:M36) -> 663.346 | N32: =SUM(N33:N36) -> 220.1 | O32: =SUM(O33:O36) -> 229.567 | ... Q32: =SUM(Q33:Q36) -> 0
B33: 4.1 | C33: Ремонт водопровідних мереж | D33: 2019 | E33: Курахівська ТЕС, Курахівська міська рада | F33: =H33+J33+L33+N33+P33 -> 703.1 | G33: =I33+K33+M33+O33+Q33 -> 476.02 | L33: 483 | M33: 246.453 | N33: 220.1 | O33: 229.567 | R33: п.м. | S33: 750 | T33: 1225.9
B34: 4.2 | C34: Розробка техніко-економічного обгрунтування "Будівництво водоводу та споруд для с. Степанівка, с. Острівське, смт. Іллінка" | D34: 2019 | E34: Курахівська міська рада | F34: =H34+J34+L34+N34+P34 -> 344.18 | G34: =I34+K34+M34+O34+Q34 -> 342.993 | L34: 344.18 | M34: 342.993
B35: 4.3 | C35: Дезобробка колодязів | D35: 2019 | E35: Курахівська міська рада | F35: =H35+J35+L35+N35+P35 -> 48.79 | G35: =I35+K35+M35+O35+Q35 -> 48.79 | L35: 48.79 | M35: 48.79 | R35: од. | S35: 5
B36: 4.4 | C36: Облсуговування пожежних гідрантів | D36: 2019 | E36: Курахівська міська рада | F36: =H36+J36+L36+N36+P36 -> 25.11 | G36: =I36+K36+M36+O36+Q36 -> 25.11 | L36: 25.11 | M36: 25.11
B37: 5. | C37: Благоустрій територій населених пунктів | F37: =H37+J37+L37+N37+P37 -> 31256.956 | G37: =I37+K37+M37+O37+Q37 -> 30627.471 | H37: =H38+H45+H47+H52+H53+H55+H62+H68+H69 -> 0 | I37: =I38+I45+I47+I52+I53+I55+I62+I68+I69 -> 0 | J37: =J38+J45+J47+J52+J53+J55+J62+J68+J69 -> 0 | K37: =K38+K45+K47+K52+K53+K55+K62+K68+K69 -> 0 | L37: =L38+L45+L47+L52+L53+L55+L62+L68+L69 -> 31256.956 | M37: =M38+M45+M47+M52+M53+M55+M62+M68+M69 -> 30627.471 | N37: =N38+N45+N47+N52+N53+N55+N62+N68+N69 -> 0 | O37: =O38+O45+O47+O52+O53+O55+O62+O68+O69 -> 0 | ... Q37: =Q38+Q45+Q47+Q52+Q53+Q55+Q62+Q68+Q69 -> 0
B38: 5.1. | C38: Утримання та ремонт дорожньо-мостового господарства (комунального значення) | F38: =SUM(F39:F44) -> 10238.754 | G38: =SUM(G39:G44) -> 10155.06 | H38: =SUM(H39:H44) -> 0 | I38: =SUM(I39:I44) -> 0 | J38: =SUM(J39:J44) -> 0 | K38: =SUM(K39:K44) -> 0 | L38: =SUM(L39:L44) -> 10238.754 | M38: =SUM(M39:M44) -> 10155.06 | ... Q38: =SUM(Q39:Q44) -> 0
B39: 5.1.1 | C39: поточний та ямковий ремонт доріг у м. Курахове, Мар'їнського району, Донецької області | D39: 2019 | E39: Курахівська міська рада | F39: =H39+J39+L39+N39+P39 -> 4635.001 | G39: =I39+K39+M39+O39+Q39 -> 4635.001 | L39: 4635.001 | M39: 4635.001 | R39: м2 | S39: 9780 | T39: 9801.2
B40: 5.1.2 | C40: відсипання доріг шлаком у м. Курахове Мар'їнського району Донецької області | D40: 2019 | E40: Курахівська міська рада | F40: =H40+J40+L40+N40+P40 -> 724.959 | G40: =I40+K40+M40+O40+Q40 -> 724.959 | L40: 724.959 | M40: 724.959 | R40: м2 | S40: 6000 | T40: 5688
B41: 5.1.3 | C41: нанесення дорожньої розмітки та встановлення дорожніх знаків у м. Курахове Мар'їнського району Донецької області | D41: 2019 | E41: Курахівська міська рада | F41: =H41+J41+L41+N41+P41 -> 174 | G41: =I41+K41+M41+O41+Q41 -> 174 | L41: 174 | M41: 174 | R41: м2 | T41: 579.36
B42: 5.1.4 | C42: Роботи згідно робочого проекту «Реконструкція проспекту Миру від вул. Пушкіна до вул. Побєда у м. Курахове» | D42: 2019 | E42: Курахівська міська рада | F42: =H42+J42+L42+N42+P42 -> 3578.931 | G42: =I42+K42+M42+O42+Q42 -> 3578.931 | L42: 3578.931 | M42: 3578.931 | R42: м2 | T42: 1632
B43: 5.1.5 | C43: Відновлення тротуару до мікрорайону "Южний", по пр. Миру | D43: 2019 | E43: Курахівська міська рада | F43: =H43+J43+L43+N43+P43 -> 637.636 | G43: =I43+K43+M43+O43+Q43 -> 553.942 | L43: 637.636 | M43: 553.942 | R43: м2 | T43: 396
B44: 5.1.6 | C44: Розроблення проектно-кошторисної документації "Реконструкція доріг і тротуарів та благоустрою території мікрорайону "Южний" у м. Курахове Мар'їнського району Донецької області" | D44: 2019 | E44: Курахівська міська рада | F44: =H44+J44+L44+N44+P44 -> 488.227 | G44: =I44+K44+M44+O44+Q44 -> 488.227 | L44: 488.227 | M44: 488.227
B45: 5.2. | C45: Утримання, ремонт та очищення зливових каналізаційних, дренажних систем і колодязів населених пунктів області | F45: =H45+J45+L45+N45+P45 -> 396.589 | G45: =I45+K45+M45+O45+Q45 -> 396.584 | H45: =H46 -> 0 | I45: =I46 -> 0 | J45: =J46 -> 0 | K45: =K46 -> 0 | L45: =L46 -> 396.589 | M45: =M46 -> 396.584 | N45: =N46 -> 0 | O45: =O46 -> 0 | ... Q45: =Q46 -> 0
B46: 5.2.1 | C46: Технічне обслуговування зливової каналізації у м. Курахове Мар'їнского району Донецької області | D46: 2019 | E46: Курахівська міська рада | F46: =H46+J46+L46+N46+P46 -> 396.589 | G46: =I46+K46+M46+O46+Q46 -> 396.584 | L46: 396.589 | M46: 396.584 | R46: п.м. | S46: 726 | T46: 1111
B47: 5.3. | C47: Утримання, ремонт та будівництво об’єктів зовнішнього освітлення | F47: =F48+F49+F50+F51 -> 5970.399 | G47: =G48+G49+G50+G51 -> 5881.012 | H47: =H48+H49+H50+H51 -> 0 | I47: =I48+I49+I50+I51 -> 0 | J47: =J48+J49+J50+J51 -> 0 | K47: =K48+K49+K50+K51 -> 0 | L47: =L48+L49+L50+L51 -> 5970.399 | M47: =M48+M49+M50+M51 -> 5881.012 | ... Q47: =Q48+Q49+Q50+Q51 -> 0
B48: 5.3.1 | C48: витрати за спожиту електроенергію на зовнішне освітлення у м. Курахове Мар'їнского району Донецької області | D48: 2019 | E48: Курахівська міська рада | F48: =H48+J48+L48+N48+P48 -> 1751.865 | G48: =I48+K48+M48+O48+Q48 -> 1685.397 | L48: 1751.865 | M48: 1685.397 | R48: кВт | T48: 548152
B49: 5.3.2 | C49: послуги з технічного обслуговування систем вуличного освітлення у м. Курахове Мар'їнського району Донецької області | D49: 2019 | E49: Курахівська міська рада | F49: =H49+J49+L49+N49+P49 -> 1636.028 | G49: =I49+K49+M49+O49+Q49 -> 1614.42 | L49: 1636.028 | M49: 1614.42 | R49: км | S49: 51.393 | T49: 62.886
B50: 5.3.3 | C50: послуги з підключення зовнішнього освітлення у м. Курахове Мар'їнського району Донецької області | D50: 2019 | E50: Курахівська міська рада | F50: =H50+J50+L50+N50+P50 -> 2582.506 | G50: =I50+K50+M50+O50+Q50 -> 2581.195 | L50: 2582.506 | M50: 2581.195 | R50: км | S50: 10.16 | T50: 17.037
B51: 5.3.4 | C51: придбання лічильників | D51: 2019 | E51: Курахівська міська рада | F51: =H51+J51+L51+N51+P51 -> 0 | G51: =I51+K51+M51+O51+Q51 -> 0 | L51: 0
B52: 5.4. | C52: Утримання зелених насаджень загального користування
B53: 5.5. | C53: Утримання та благоустрій місць поховань, поховання безрідних та фінансування робіт з інветаризації земельних ділянок під кладовища | F53: =H53+J53+L53+N53+P53 -> 18.469 | G53: =I53+K53+M53+O53+Q53 -> 18.469 | H53: =H54 -> 0 | I53: =I54 -> 0 | J53: =J54 -> 0 | K53: =K54 -> 0 | L53: =L54 -> 18.469 | M53: =M54 -> 18.469 | N53: =N54 -> 0 | O53: =O54 -> 0 | ... Q53: =Q54 -> 0
B54: 5.5.1 | C54: Захоронення безпритульних осіб у м. Курахове Мар'їнского району Донецької області | D54: 2019 | E54: Курахівська міська рада | F54: =H54+J54+L54+N54+P54 -> 18.469 | G54: =I54+K54+M54+O54+Q54 -> 18.469 | L54: 18.469 | M54: 18.469 | T54: 4
B55: 5.6. | C55: Санітарне очищення, придбання обладнання та ліквідація стихійних звалищ | F55: =H55+J55+L55+N55+P55 -> 10903.669 | G55: =I55+K55+M55+O55+Q55 -> 10461.951 | H55: =SUM(H56:H61) -> 0 | J55: =SUM(J56:J61) -> 0 | L55: =SUM(L56:L61) -> 10903.669 | M55: =SUM(M56:M61) -> 10461.951 | N55: =SUM(N56:N61) -> 0 | P55: =SUM(P56:P61) -> 0
B56: 5.6.1 | C56: прибирання біотуалетів у м. Курахове Мар'їнского району Донецької області | D56: 2019 | E56: Курахівська міська рада | F56: =H56+J56+L56+N56+P56 -> 505.893 | G56: =I56+K56+M56+O56+Q56 -> 490.998 | L56: 505.893 | M56: 490.998 | R56: од. | S56: 8 | T56: 7
B57: 5.6.2 | C57: придбання біотуалету у м. Курахове Мар'їнского району Донецької області | D57: 2019 | E57: Курахівська міська рада | F57: =H57+J57+L57+N57+P57 -> 196 | G57: =I57+K57+M57+O57+Q57 -> 196 | L57: 196 | M57: 196 | R57: од. | S57: 1 | T57: 1
B58: 5.6.2 | C58: утримання незакріплених за підприємствами територій: ліквідація стихійних звалищ, прибирання, вивіз сміття у м.Курахове Мар'їнського району Донецької області | D58: 2019 | E58: Курахівська міська рада | F58: =H58+J58+L58+N58+P58 -> 4332.947 | G58: =I58+K58+M58+O58+Q58 -> 4305.169 | L58: 4332.947 | M58: 4305.169 | R58: тис. м2 | S58: 5732.91 | T58: 6943.37
B59: 5.6.3 | C59: прибирання місць відпочинку на площі у м. Курахове Мар'їнского району Донецької області | D59: 2019 | E59: Курахівська міська рада | F59: =H59+J59+L59+N59+P59 -> 1043.068 | G59: =I59+K59+M59+O59+Q59 -> 1011.674 | L59: 1043.068 | M59: 1011.674 | R59: тис. м2 | S59: 805.87 | T59: 785.974
B60: 5.6.4 | C60: підмітання доріг від сміття, розчищення та побілка бордюр, очищення доріг від снігу, посипання доріг і тротуарів піском у м. Курахове, Мар'їнський район, Донецька область | D60: 2019 | E60: Курахівська міська рада | F60: =H60+J60+L60+N60+P60 -> 3525.089 | G60: =I60+K60+M60+O60+Q60 -> 3179.423 | L60: 3525.089 | M60: 3179.423
B61: 5.6.5 | C61: звільнення урн від сміття у м. Курахове Мар'їнского району Донецької області | D61: 2018 | E61: Курахівська міська рада | F61: =H61+J61+L61+N61+P61 -> 1300.672 | G61: =I61+K61+M61+O61+Q61 -> 1278.687 | L61: 1300.672 | M61: 1278.687 | R61: од. | S61: 32036 | T61: 34219
B62: 5.7. | C62: Утримання, ремонт та будівництво дитячих і спортивних майданчиків | F62: =H62+J62+L62+N62+P62 -> 2711.082 | G62: =I62+K62+M62+O62+Q62 -> 2696.406 | H62: =SUM(H63:H67) -> 0 | I62: =SUM(I63:I67) -> 0 | J62: =SUM(J63:J67) -> 0 | K62: =SUM(K63:K67) -> 0 | L62: =SUM(L63:L67) -> 2711.082 | M62: =SUM(M63:M67) -> 2696.406 | N62: =SUM(N63:N67) -> 0 | O62: =SUM(O63:O67) -> 0 | ... Q62: =SUM(Q63:Q67) -> 0
B63: 5.7.1 | C63: ремонт та технічне обслуговування обладнання дитячих ігрових майданчиків у м. Курахове Мар'їнського району Донецької області | D63: 2019 | E63: Курахівська міська рада | F63: =H63+J63+L63+N63+P63 -> 559.415 | G63: =I63+K63+M63+O63+Q63 -> 544.739 | L63: 559.415 | M63: 544.739
B64: 5.7.2 | C64: ігрове та спортивне обладнання або еквівалент | D64: 2019 | E64: Курахівська міська рада | F64: =H64+J64+L64+N64+P64 -> 1099.3 | G64: =I64+K64+M64+O64+Q64 -> 1099.3 | L64: 1099.3 | M64: 1099.3 | R64: од. | S64: 76 | T64: 35
B65: 5.7.3 | C65: встановлення ігрових та спортивних елементів у м. Курахове, Мар'їнського району Донецької області | D65: 2019 | E65: Курахівська міська рада | F65: =H65+J65+L65+N65+P65 -> 854.742 | G65: =I65+K65+M65+O65+Q65 -> 854.742 | L65: 854.742 | M65: 854.742 | R65: од. | S65: 76 | T65: 35
B66: 5.7.4 | C66: встановлення баскетбольного майданчику | D66: 2019 | E66: Курахівська міська рада | F66: =H66+J66+L66+N66+P66 -> 55 | G66: =I66+K66+M66+O66+Q66 -> 55 | L66: 55 | M66: 55
B67: 5.7.5 | C67: розробка робочого проекту "Будівництво футбольного поля зі штучним покриттям, розташованого за адресою: Донецька область, Мар'їнський район, м. Курахове, вул. Мечнікова" | D67: 2019 | E67: Курахівська міська рада | F67: =H67+J67+L67+N67+P67 -> 142.625 | G67: =I67+K67+M67+O67+Q67 -> 142.625 | L67: 142.625 | M67: 142.625
B68: 5.8. | C68: Боротьба з карантинними рослинами | F68: =H68+J68+L68+N68+P68 -> 0 | G68: =I68+K68+M68+O68+Q68 -> 0 | H68: 0 | I68: 0 | J68: 0 | K68: 0 | L68: 0 | M68: 0 | N68: 0 | O68: 0 | P68: 0 | Q68: 0
B69: 5.9. | C69: Інші заходи з благоустрою, які не підпадають під пункти наведені вище | F69: =H69+J69+L69+N69+P69 -> 1017.994 | G69: =I69+K69+M69+O69+Q69 -> 1017.989 | H69: =SUM(H70:H77) -> 0 | I69: =SUM(I70:I77) -> 0 | J69: =SUM(J70:J77) -> 0 | K69: =SUM(K70:K77) -> 0 | L69: =SUM(L70:L77) -> 1017.994 | M69: =SUM(M70:M77) -> 1017.989 | N69: =SUM(N70:N77) -> 0 | O69: =SUM(O70:O77) -> 0 | ... Q69: =SUM(Q70:Q77) -> 0
B70: 5.9.1 | C70: Ремонт та утримання малих архітектурних форм, пам'ятників, стел у м. Курахове Мар'їнського району Донецької області | D70: 2019 | E70: Курахівська міська рада | F70: =H70+J70+L70+N70+P70 -> 109.717 | G70: =I70+K70+M70+O70+Q70 -> 109.716 | L70: 109.717 | M70: 109.716 | R70: од. | S70: 8 | T70: 8
B71: 5.9.2 | C71: Ремонт паркових лав у м. Курахове Мар'їнского району Донецької області | D71: 2019 | E71: Курахівська міська рада | F71: =H71+J71+L71+N71+P71 -> 252.23 | G71: =I71+K71+M71+O71+Q71 -> 252.226 | L71: 252.23 | M71: 252.226
B72: 5.9.3 | C72: Встановлення паркових лав | D72: 2019 | E72: Курахівська міська рада | F72: =H72+J72+L72+N72+P72 -> 25.098 | G72: =I72+K72+M72+O72+Q72 -> 25.098 | L72: 25.098 | M72: 25.098 | T72: 40
B73: 5.9.4 | C73: Технічне обслуговування та поточний ремонт фонтану у м. Курахове Мар'їнского району Донецької області | D73: 2019 | E73: Курахівська міська рада | F73: =H73+J73+L73+N73+P73 -> 124.132 | G73: =I73+K73+M73+O73+Q73 -> 124.132 | L73: 124.132 | M73: 124.132
B74: 5.9.5 | C74: Встановлення фонтанів | D74: 2019 | E74: Курахівська міська рада | F74: =H74+J74+L74+N74+P74 -> 356.084 | G74: =I74+K74+M74+O74+Q74 -> 356.084 | L74: 356.084 | M74: 356.084
B75: 5.9.6 | C75: Встановлення сіті-лайтів | D75: 2019 | E75: Курахівська міська рада | F75: =H75+J75+L75+N75+P75 -> 39.402 | G75: =I75+K75+M75+O75+Q75 -> 39.402 | L75: 39.402 | M75: 39.402 | R75: од. | S75: 8 | T75: 8
B76: 5.9.7 | C76: Відлов безпритульних тварин у м. Курахове Мар'їнского району Донецької області | D76: 2019 | E76: Курахівська міська рада | F76: =H76+J76+L76+N76+P76 -> 98 | G76: =I76+K76+M76+O76+Q76 -> 98 | L76: 98 | M76: 98 | R76: од. | T76: 77
B77: 5.9.8 | C77: Дератизація та дезінсекція у м. Курахове Мар'їнского району Донецької області | D77: 2019 | E77: Курахівська міська рада | F77: =H77+J77+L77+N77+P77 -> 13.331 | G77: =I77+K77+M77+O77+Q77 -> 13.331 | L77: 13.331 | M77: 13.331
A78: 3.1.7. Містобудівна діяльність
A79: Забезпечення раціонального використання території населеного пункту, визначення перспективних напрямків розвитку території з урахуванням сучасних вимог в сфері містобудування | B79: 1. | C79: Розробка робочого проекту "Житловий будинок з вбудованими приміщеннями в мікрорайоні Южний м. Курахове Мар'їнського району Донецької області" | D79: 2019 | E79: Курахівська міська рада | F79: =H79+J79+L79+N79+P79 -> 1150 | G79: =I79+K79+M79+O79+Q79 -> 1149.049 | L79: 1150 | M79: 1149.049
C80: всього | F80: =SUM(F79:F79) -> 1150 | G80: =SUM(G79:G79) -> 1149.049 | H80: =SUM(H79:H79) -> 0 | I80: =SUM(I79:I79) -> 0 | J80: =SUM(J79:J79) -> 0 | K80: =SUM(K79:K79) -> 0 | L80: =SUM(L79:L79) -> 1150 | M80: =SUM(M79:M79) -> 1149.049 | ... Q80: =SUM(Q79:Q79) -> 0
C81: Всього | F81: =F11+F24+F27+F32+F37+F80 -> 55608.148 | G81: =G11+G24+G27+G32+G37+G80 -> 54694.989 | H81: =H11+H24+H27+H32+H37+H80 -> 0 | I81: =I11+I24+I27+I32+I37+I80 -> 0 | J81: =J11+J24+J27+J32+J37+J80 -> 0 | K81: =K11+K24+K27+K32+K37+K80 -> 0 | L81: =L11+L24+L27+L32+L37+L80 -> 49126.988 | M81: =M11+M24+M27+M32+M37+M80 -> 47825.25 | ... Q81: =Q11+Q24+Q27+Q32+Q37+Q80 -> 0
A83: Заступник міського голови з питань діяльності виконавчих органів Курахівської міської ради Олена ІРКОБАЄВА
C84: Секретар ради Наталя ПУЖАЙЛО
