Workbook

Sheet сводная
J2: Додаток 1 до інформації про результати виконання Програми соціально-економічного та культурного розвитку м.Курахове за 2019 рік
A3: Заходи
A4: щодо забезпечення виконання Плану соціально-економічного розвитку м. Курахове
A5: за 2019 рік
A7: Розділ | B7: Термін виконання | C7: Витрати на реалізацію, тис.грн.
C8: Всього | E8: у тому числі за рахунок коштів:
E9: державного бюджету (субвенція) | G9: місцевих бюджетів | K9: підприємств | M9: інших джерел
G10: обласного бюджету | I10: місцевий бюджет
C11: план | D11: факт | E11: план | F11: факт | G11: план | H11: факт | I11: план | J11: факт | K11: план | L11: факт | M11: план | N11: факт
A12: теплопостачання | B12: 2019 | C12: =E12+G12+I12+K12+M12 -> 8742.919 | D12: =F12+H12+J12+L12+N12 -> 7834.658 | E12: ='заходи-2019'!H27 -> 0 | F12: 0 | G12: ='заходи-2019'!J27 -> 0 | H12: 0 | I12: ='заходи-2019'!L27 -> 7669.319 | J12: ='заходи-2019'!M27 -> 7256.894 | K12: ='заходи-2019'!N27 -> 1073.6 | L12: ='заходи-2019'!O27 -> 577.764 | M12: ='заходи-2019'!P27 -> 0 | N12: 0
A13: газ | C13: =E13+G13+I13+K13+M13 -> 0 | D13: =F13+H13+J13+L13+N13 -> 0 | E13: =SUM(E12:E12) -> 0 | F13: =SUM(F12:F12) -> 0 | G13: =SUM(G12:G12) -> 0 | H13: =SUM(H12:H12) -> 0 | I13: 0 | J13: ='[1] теплопостачання '!L21 -> 0 | K13: 0 | L13: 0 | M13: =SUM(M12:M12) -> 0 | N13: 0
A14: водопостачання та водовідведення | C14: =E14+G14+I14+K14+M14 -> 1121.18 | D14: =F14+H14+J14+L14+N14 -> 892.913 | E14: ='заходи-2019'!H32 -> 0 | F14: ='заходи-2019'!I32 -> 0 | G14: ='заходи-2019'!J32 -> 0 | H14: ='заходи-2019'!K32 -> 0 | I14: ='заходи-2019'!L32 -> 901.08 | J14: ='заходи-2019'!M32 -> 663.346 | K14: ='заходи-2019'!N32 -> 220.1 | L14: ='заходи-2019'!O32 -> 229.567 | ... N14: ='заходи-2019'!Q32 -> 0
A15: житлове господарство | C15: =E15+G15+I15+K15+M15 -> 13322.093 | D15: =F15+H15+J15+L15+N15 -> 14190.898 | E15: ='заходи-2019'!H11 -> 0 | F15: ='заходи-2019'!I11 -> 0 | G15: ='заходи-2019'!J11 -> 0 | H15: ='заходи-2019'!K11 -> 0 | I15: ='заходи-2019'!L11 -> 8149.633 | J15: ='заходи-2019'!M11 -> 8128.49 | K15: ='заходи-2019'!N11 -> 5162.46 | L15: ='заходи-2019'!O11 -> 6062.408 | ... N15: ='заходи-2019'!Q11 -> 0
A16: створення ОСББ | C16: =E16+G16+I16+K16+M16 -> 15 | D16: =F16+H16+J16+L16+N16 -> 0 | E16: ='заходи-2019'!H24 -> 0 | F16: ='заходи-2019'!I24 -> 0 | G16: ='заходи-2019'!J24 -> 0 | H16: ='заходи-2019'!K24 -> 0 | I16: ='заходи-2019'!L24 -> 0 | J16: ='заходи-2019'!M24 -> 0 | K16: ='заходи-2019'!N24 -> 15 | L16: ='заходи-2019'!O24 -> 0 | ... N16: ='заходи-2019'!Q24 -> 0
A17: благоустрій | C17: =E17+G17+I17+K17+M17 -> 31256.956 | D17: =F17+H17+J17+L17+N17 -> 30627.471 | E17: ='заходи-2019'!H37 -> 0 | F17: ='заходи-2019'!I37 -> 0 | G17: ='заходи-2019'!J37 -> 0 | H17: ='заходи-2019'!K37 -> 0 | I17: ='заходи-2019'!L37 -> 31256.956 | J17: ='заходи-2019'!M37 -> 30627.471 | K17: ='заходи-2019'!N37 -> 0 | L17: ='заходи-2019'!O37 -> 0 | ... N17: ='заходи-2019'!Q37 -> 0
A18: архітектура | C18: =E18+G18+I18+K18+M18 -> 1150 | D18: =F18+H18+J18+L18+N18 -> 1149.049 | E18: ='заходи-2019'!H80 -> 0 | F18: ='заходи-2019'!I80 -> 0 | G18: ='заходи-2019'!J80 -> 0 | H18: ='заходи-2019'!K80 -> 0 | I18: ='заходи-2019'!L80 -> 1150 | J18: ='заходи-2019'!M80 -> 1149.049 | K18: ='заходи-2019'!N80 -> 0 | L18: ='заходи-2019'!O80 -> 0 | ... N18: ='заходи-2019'!Q80 -> 0
A19: всього | C19: =SUM(C12:C18) -> 55608.148 | D19: =SUM(D12:D18) -> 54694.989 | E19: =SUM(E12:E18) -> 0 | F19: =SUM(F12:F18) -> 0 | G19: =SUM(G12:G18) -> 0 | H19: =SUM(H12:H18) -> 0 | I19: =SUM(I12:I18) -> 49126.988 | J19: =SUM(J12:J18) -> 47825.25 | ... N19: =SUM(N12:N18) -> 0
B21: Секретар ради Наталя ПУЖАЙЛО
A22: Заступник міського голови з питань діяльності виконавчих органів Курахівської міської ради Олена ІРКОБАЄВА

Sheet заходи-2019
P1: Додаток 1 до інформації про результати виконання Програми соціально-економічного та культурного розвитку м.Курахове за 2019 рік
A2: Заходи щодо виконання завдань Програми соціально-економічного та культурного розвитку м.Курахове за 2019 рік
A3: № і назва завдання Стратегії розвитку Донецької області на період до 2020 року | B3: № з/п | C3: Зміст заходу | D3: Термін виконання виконан- ня | E3: Виконавець | F3: Витрати на реалізацію, тис.грн. | R3: Очікуваний результат
F4: Всього | H4: у тому числі за рахунок коштів:
H5: Держав- ного бюджету | J5: місцевих бюджетів | N5: підпри- ємств | P5: інших джерел | R5: найменування показника | S5: значення показника
J6: облас- ного бюджету | L6: бюджету міст і районів
F7: план | G7: факт | H7: план | I7: факт | J7: план | K7: факт | L7: план | M7: факт | N7: план | O7: факт | P7: план | Q7: факт | S7: план | T7: факт
A8: 1 | B8: 2 | C8: 3 | D8: 4 | E8: 5 | F8: 6 | G8: 7 | H8: 8 | I8: 9 | J8: 10 | K8: 11 | L8: 12 | M8: 13 | N8: 14 | O8: 15 | P8: 16 | Q8: 17 | R8: 18 | S8: 19 | T8: 20
A9: Ціль 1. Економічний розвиток та підвищення зайнятості населення
A10: 3.1.7 Житлове господарство та комунальна інфраструктура
A11: 1.1.2 Забезпечувати ефективне функціонування житлово-комунального господарства та безперебійне енерго-, газо- та водопостачання об’єктів соціальної сфери, освіти, охорони здоров’я | B11: 1 | C11: Забезпечення якісного управління житловим фондом та поліпшення умов проживання мешканців | F11: =F12+F18+F19+F20+F21+F23 -> 13322.093 | G11: =G12+G18+G19+G20+G21+G23 -> 14190.898 | H11: =H12+H18+H19+H20+H21+H23 -> 0 | I11: =I12+I18+I19+I20+I21+I23 -> 0 | J11: =J12+J18+J19+J20+J21+J23 -> 0 | K11: =K12+K18+K19+K20+K21+K23 -> 0 | L11: =L12+L18+L19+L20+L21+L23 -> 8149.633 | M11: =M12+M18+M19+M20+M21+M23 -> 8128.49 | ... Q11: =Q12+Q18+Q19+Q20+Q21+Q23 -> 0
B12: 1.1 | C12: Реконструкція / капітальний ремонт житлових будинків, з них | F12: =F13+F17 -> 3410.082 | G12: =G13+G17 -> 3410.081 | H12: =H13+H17 -> 0 | I12: =I13+I17 -> 0 | J12: =J13+J17 -> 0 | K12: =K13+K17 -> 0 | L12: =L13+L17 -> 3410.082 | M12: =M13+M17 -> 3410.081 | ... Q12: =Q13+Q17 -> 0
B13: 1.1.1 | C13: Реконструкція / капітальний ремонт житлових будинків (будівельних конструкцій, інженерних комунікацій) | F13: =F14+F15+F16 -> 3410.082 | G13: =G14+G15+G16 -> 3410.081 | H13: =H14+H15+H16 -> 0 | I13: =I14+I15+I16 -> 0 | J13: =J14+J15+J16 -> 0 | K13: =K14+K15+K16 -> 0 | L13: =L14+L15+L16 -> 3410.082 | M13: =M14+M15+M16 -> 3410.081 | ... Q13: =Q14+Q15+Q16 -> 0
B14: 1.1.1.1 | C14: Реконструкція фасадів та прибудинкової території житлового будинку № 21 по вул. Мечнікова в м. Курахове | D14: 2019 | E14: Курахівська міська рада | F14: =H14+J14+L14+N14+P14 -> 1280.918 | G14: =I14+K14+M14+O14+Q14 -> 1280.917 | L14: 1280.918 | M14: 1280.917
B15: 1.1.1.2 | C15: Реконструкція фасадів та прибудинкової території житлового будинку № 22 по вул. Пушкіна в м. Курахове | D15: 2019 | E15: Курахівська міська рада | F15: =H15+J15+L15+N15+P15 -> 730.214 | G15: =I15+K15+M15+O15+Q15 -> 730.214 | L15: 730.214 | M15: 730.214
B16: 1.1.1.3 | C16: Капітальний ремонт покрівель житлових будинків №16,18 по вул. Побєди | D16: 2019 | E16: Курахівська міська рада | F16: =H16+J16+L16+N16+P16 -> 1398.95 | G16: =I16+K16+M16+O16+Q16 -> 1398.95 | L16: 1398.95 | M16: 1398.95
B17: 1.1.2 | C17: Реконструкція/капітальний ремонт житлових будинків з застосуванням заходів з енергоефективності
B18: 1.2 | C18: Поточний ремонт житлового фонду комунальної власності територіальної громади м.Курахове | D18: 2019 | E18: КП "МСЕЗ", Курахівська міська рада | F18: =H18+J18+L18+N18+P18 -> 9652.48 | G18: =I18+K18+M18+O18+Q18 -> 10541.117 | L18: 4490.02 | M18: 4478.709 | N18: 5162.46 | O18: 6062.408 | R18: од. | S18: 172
B19: 1.3 | C19: Капітальний ремонт, модернізація, заміна, експертна оцінка ліфтів
B20: 1.4 | C20: Створення безбар’єрного середовища для осіб з інвалідністю (влаштування під'їздів для інвалідів) | D20: 2019 | E20: Курахівська міська рада | F20: =H20+J20+L20+N20+P20 -> 36.4 | G20: =I20+K20+M20+O20+Q20 -> 26.4 | L20: 26.4 | M20: 26.4 | P20: 10
B21: 1.5 | C21: Реконструкція та ремонт об’єктів з метою компактного проживання внутрішньо переміщених осіб
B22: 1.6 | C22: Відновлення систем автоматичного протипожежного захисту в будинках підвищеної поверховості
B23: 1.7 | C23: Технічне обслуговування мереж газопостачаня у м. Курахове Мар'їнского району Донецької області | D23: 2019 | E23: Курахівська міська рада | F23: =H23+J23+L23+N23+P23 -> 223.131 | G23: =I23+K23+M23+O23+Q23 -> 213.3 | L23: 223.131 | M23: 213.3
B24: 2. | C24: Підтримка житлового фонду при створені та функціонуванні об'єднаннь співвласників багатоквартирних будинків | F24: =H24+J24+L24+N24+P24 -> 15 | G24: =I24+K24+M24+O24+Q24 -> 0 | H24: =H25+H26 -> 0 | I24: =I25+I26 -> 0 | J24: =J25+J26 -> 0 | K24: =K25+K26 -> 0 | L24: =L25+L26 -> 0 | M24: =M25+M26 -> 0 | N24: =N25+N26 -> 15 | O24: =O25+O26 -> 0 | ... Q24: =Q25+Q26 -> 0
B25: 2.1. | C25: Місцева Програма підтримки ОСББ (у разі наявності) | F25: =H25+J25+L25+N25+P25 -> 0 | G25: =I25+K25+M25+O25+Q25 -> 0
B26: 2.2. | C26: Інші заходи спрямовані на підтримку ОСББ ( проведення ремонтів, надання фінпідтримки інше) | F26: =H26+J26+L26+N26+P26 -> 15 | G26: =I26+K26+M26+O26+Q26 -> 0 | N26: 15
B27: 3. | C27: Забезпечення реалізації заходів з капітального ремонту та реконструкції теплового господарства | F27: =H27+J27+L27+N27+P27 -> 8742.919 | G27: =I27+K27+M27+O27+Q27 -> 7834.658 | H27: =SUM(H28:H31) -> 0 | J27: =SUM(J28:J31) -> 0 | L27: =SUM(L28:L31) -> 7669.319 | M27: =M28+M29+M30+M31 -> 7256.894 | N27: =SUM(N28:N31) -> 1073.6 | O27: =SUM(O28:O31) -> 577.764 | P27: =P28+P31 -> 0 | Q27: =Q28+Q31 -> 0
B28: 3.1. | C28: Заміна розподільної лінінї тепломережі кварталу пр-т Запорізький 34а - пр-т Соборний 15,17 м. Курахове із використанням ПІТ | D28: 2019 | E28: Курахівська ТЕС | F28: =H28+J28+L28+N28+P28 -> 303.2 | G28: =I28+K28+M28+O28+Q28 -> 303.2 | N28: 303.2 | O28: 303.2 | R28: п.м у однотрубному вимірюванні | S28: 186 | T28: 187.06
B29: 3.2. | C29: Поточний ремонт теплокамер | D29: 2019 | E29: Курахівська міська рада | F29: =H29+J29+L29+N29+P29 -> 0 | G29: =I29+K29+M29+O29+Q29 -> 0 | L29: 0 | M29: 0
B30: 3.3. | C30: Заміна теплоізоляції лінії зовнішніх тепломереж по просп. Запорізький від диспетчерського пункту до буд. № 12 по пров. Базарний | D30: 2019 | E30: Курахівська міська рада | F30: =H30+J30+L30+N30+P30 -> 2375.219 | G30: =I30+K30+M30+O30+Q30 -> 2372.248 | L30: 2375.219 | M30: 2372.248 | R30: п.м. | T30: 3210
B31: 3.4. | C31: Ремонт і заміна теплових мереж | D31: 2019 | E31: Курахівська міська рада, Курахівська ТЕС | F31: =H31+J31+L31+N31+P31 -> 6064.5 | G31: =I31+K31+M31+O31+Q31 -> 5159.21 | L31: 5294.1 | M31: 4884.646 | N31: 770.4 | O31: 274.564 | R31: п.м у однотрубному вимірюванні | S31: 276 | T31: 2238,0 / 211,04
B32: 4. | C32: Забезпечення реалізації заходів з капітального ремонту та реконструкції водопровідно-каналізаційного господарства | F32: =H32+J32+L32+N32+P32 -> 1121.18 | G32: =I32+K32+M32+O32+Q32 -> 892.913 | H32: =SUM(H33:H36) -> 0 | I32: =SUM(I33:I36) -> 0 | J32: =SUM(J33:J36) -> 0 | K32: =SUM(K33:K36) -> 0 | L32: =SUM(L33:L36) -> 901.08 | M32: =SUM(M33:M36) -> 663.346 | N32: =SUM(N33:N36) -> 220.1 | O32: =SUM(O33:O36) -> 229.567 | ... Q32: =SUM(Q33:Q36) -> 0
B33: 4.1 | C33: Ремонт водопровідних мереж | D33: 2019 | E33: Курахівська ТЕС, Курахівська міська рада | F33: =H33+J33+L33+N33+P33 -> 703.1 | G33: =I33+K33+M33+O33+Q33 -> 476.02 | L33: 483 | M33: 246.453 | N33: 220.1 | O33: 229.567 | R33: п.м. | S33: 750 | T33: 1225.9
B34: 4.2 | C34: Розробка техніко-економічного обгрунтування "Будівництво водоводу та споруд для с. Степанівка, с. Острівське, смт. Іллінка" | D34: 2019 | E34: Курахівська міська рада | F34: =H34+J34+L34+N34+P34 -> 344.18 | G34: =I34+K34+M34+O34+Q34 -> 342.993 | L34: 344.18 | M34: 342.993
B35: 4.3 | C35: Дезобробка колодязів | D35: 2019 | E35: Курахівська міська рада | F35: =H35+J35+L35+N35+P35 -> 48.79 | G35: =I35+K35+M35+O35+Q35 -> 48.79 | L35: 48.79 | M35: 48.79 | R35: од. | S35: 5
B36: 4.4 | C36: Облсуговування пожежних гідрантів | D36: 2019 | E36: Курахівська міська рада | F36: =H36+J36+L36+N36+P36 -> 25.11 | G36: =I36+K36+M36+O36+Q36 -> 25.11 | L36: 25.11 | M36: 25.11
B37: 5. | C37: Благоустрій територій населених пунктів | F37: =H37+J37+L37+N37+P37 -> 31256.956 | G37: =I37+K37+M37+O37+Q37 -> 30627.471 | H37: =H38+H45+H47+H52+H53+H55+H62+H68+H69 -> 0 | I37: =I38+I45+I47+I52+I53+I55+I62+I68+I69 -> 0 | J37: =J38+J45+J47+J52+J53+J55+J62+J68+J69 -> 0 | K37: =K38+K45+K47+K52+K53+K55+K62+K68+K69 -> 0 | L37: =L38+L45+L47+L52+L53+L55+L62+L68+L69 -> 31256.956 | M37: =M38+M45+M47+M52+M53+M55+M62+M68+M69 -> 30627.471 | N37: =N38+N45+N47+N52+N53+N55+N62+N68+N69 -> 0 | O37: =O38+O45+O47+O52+O53+O55+O62+O68+O69 -> 0 | ... Q37: =Q38+Q45+Q47+Q52+Q53+Q55+Q62+Q68+Q69 -> 0
B38: 5.1. | C38: Утримання та ремонт дорожньо-мостового господарства (комунального значення) | F38: =SUM(F39:F44) -> 10238.754 | G38: =SUM(G39:G44) -> 10155.06 | H38: =SUM(H39:H44) -> 0 | I38: =SUM(I39:I44) -> 0 | J38: =SUM(J39:J44) -> 0 | K38: =SUM(K39:K44) -> 0 | L38: =SUM(L39:L44) -> 10238.754 | M38: =SUM(M39:M44) -> 10155.06 | ... Q38: =SUM(Q39:Q44) -> 0
B39: 5.1.1 | C39: поточний та ямковий ремонт доріг у м. Курахове, Мар'їнського району, Донецької області | D39: 2019 | E39: Курахівська міська рада | F39: =H39+J39+L39+N39+P39 -> 4635.001 | G39: =I39+K39+M39+O39+Q39 -> 4635.001 | L39: 4635.001 | M39: 4635.001 | R39: м2 | S39: 9780 | T39: 9801.2
B40: 5.1.2 | C40: відсипання доріг шлаком у м. Курахове Мар'їнського району Донецької області | D40: 2019 | E40: Курахівська міська рада | F40: =H40+J40+L40+N40+P40 -> 724.959 | G40: =I40+K40+M40+O40+Q40 -> 724.959 | L40: 724.959 | M40: 724.959 | R40: м2 | S40: 6000 | T40: 5688
...
