Workbook

Sheet сводная
K1: Додаток 1 до інформації про результати виконання Програми соціально-економічного та культурного розвитку м.Курахове за 2020 рік
A2: Заходи
A3: щодо забезпечення виконання Плану соціально-економічного розвитку м. Курахове
A4: на 2020 рік
A6: Розділ | B6: Термін виконання | C6: Витрати на реалізацію, тис.грн.
C7: Всього | E7: у тому числі за рахунок коштів:
E8: державного бюджету (субвенція) | G8: місцевих бюджетів | K8: підприємств | M8: інших джерел
G9: обласного бюджету | I9: місцевий бюджет
C10: план | D10: факт | E10: план | F10: факт | G10: план | H10: факт | I10: план | J10: факт | K10: план | L10: факт | M10: план | N10: факт
A11: теплопостачання | B11: 2020 | C11: =E11+G11+I11+K11+M11 -> 6179.275 | D11: =F11+H11+J11+L11+N11 -> 829.254 | E11: ='заходи-2020'!H23 -> 0 | F11: 0 | G11: ='заходи-2020'!J23 -> 0 | H11: 0 | I11: ='заходи-2020'!L23 -> 5204.275 | J11: ='заходи-2020'!M23 -> 271.038 | K11: ='заходи-2020'!N23 -> 975 | L11: ='заходи-2020'!O23 -> 558.216 | M11: ='заходи-2020'!P23 -> 0 | N11: 0
A12: газ | C12: =E12+G12+I12+K12+M12 -> 0 | D12: =F12+H12+J12+L12+N12 -> 0 | E12: =SUM(E11:E11) -> 0 | F12: =SUM(F11:F11) -> 0 | G12: =SUM(G11:G11) -> 0 | H12: =SUM(H11:H11) -> 0 | I12: 0 | J12: ='[1] теплопостачання '!L21 -> 0 | K12: 0 | L12: 0 | M12: =SUM(M11:M11) -> 0 | N12: 0
A13: водопостачання та водовідведення | C13: =E13+G13+I13+K13+M13 -> 1682.146 | D13: =F13+H13+J13+L13+N13 -> 927.251 | E13: ='заходи-2020'!H28 -> 0 | F13: ='заходи-2020'!I28 -> 0 | G13: ='заходи-2020'!J28 -> 0 | H13: ='заходи-2020'!K28 -> 0 | I13: ='заходи-2020'!L28 -> 767.548 | J13: ='заходи-2020'!M28 -> 437.131 | K13: ='заходи-2020'!N28 -> 914.598 | L13: ='заходи-2020'!O28 -> 490.12 | ... N13: ='заходи-2020'!Q28 -> 0
A14: житлове господарство | C14: =E14+G14+I14+K14+M14 -> 4211.439 | D14: =F14+H14+J14+L14+N14 -> 3716.455 | E14: ='заходи-2020'!H10 -> 0 | F14: ='заходи-2020'!I10 -> 0 | G14: ='заходи-2020'!J10 -> 0 | H14: ='заходи-2020'!K10 -> 0 | I14: ='заходи-2020'!L10 -> 703.839 | J14: ='заходи-2020'!M10 -> 700.617 | K14: ='заходи-2020'!N10 -> 3497.6 | L14: ='заходи-2020'!O10 -> 3015.838 | ... N14: ='заходи-2020'!Q10 -> 0
A15: створення ОСББ | C15: =E15+G15+I15+K15+M15 -> 15 | D15: =F15+H15+J15+L15+N15 -> 0 | E15: ='заходи-2020'!H20 -> 0 | F15: ='заходи-2020'!I20 -> 0 | G15: ='заходи-2020'!J20 -> 0 | H15: ='заходи-2020'!K20 -> 0 | I15: ='заходи-2020'!L20 -> 0 | J15: ='заходи-2020'!M20 -> 0 | K15: ='заходи-2020'!N20 -> 0 | L15: ='заходи-2020'!O20 -> 0 | ... N15: ='заходи-2020'!Q20 -> 0
A16: газопостачання | C16: =E16+G16+I16+K16+M16 -> 56.861 | D16: =F16+H16+J16+L16+N16 -> 54.328 | E16: ='заходи-2020'!H34 -> 0 | F16: ='заходи-2020'!I34 -> 0 | G16: ='заходи-2020'!J35 -> 0 | H16: ='заходи-2020'!K35 -> 0 | I16: ='заходи-2020'!L34 -> 56.861 | J16: ='заходи-2020'!M34 -> 54.328 | K16: ='заходи-2020'!N35 -> 0 | L16: ='заходи-2020'!O34 -> 0 | M16: ='заходи-2020'!P34 -> 0 | N16: ='заходи-2020'!Q34 -> 0
A17: благоустрій | C17: =E17+G17+I17+K17+M17 -> 26434.168 | D17: =F17+H17+J17+L17+N17 -> 25830.658 | E17: ='заходи-2020'!H36 -> 0 | F17: ='заходи-2020'!I36 -> 0 | G17: ='заходи-2020'!J36 -> 0 | H17: ='заходи-2020'!K36 -> 0 | I17: ='заходи-2020'!L36 -> 26434.168 | J17: ='заходи-2020'!M36 -> 25830.658 | K17: ='заходи-2020'!N36 -> 0 | L17: ='заходи-2020'!O36 -> 0 | ... N17: ='заходи-2020'!Q36 -> 0
A18: архітектура | C18: =E18+G18+I18+K18+M18 -> 1000 | D18: =F18+H18+J18+L18+N18 -> 0 | E18: ='заходи-2020'!H72 -> 0 | F18: ='заходи-2020'!I72 -> 0 | G18: ='заходи-2020'!J72 -> 0 | H18: ='заходи-2020'!K72 -> 0 | I18: ='заходи-2020'!L72 -> 1000 | J18: ='заходи-2020'!M72 -> 0 | K18: ='заходи-2020'!N72 -> 0 | L18: ='заходи-2020'!O72 -> 0 | ... N18: ='заходи-2020'!Q72 -> 0
A19: всього | C19: =SUM(C11:C18) -> 39578.889 | D19: =SUM(D11:D18) -> 31357.946 | E19: =SUM(E11:E18) -> 0 | F19: =SUM(F11:F18) -> 0 | G19: =SUM(G11:G18) -> 0 | H19: =SUM(H11:H18) -> 0 | I19: =SUM(I11:I18) -> 34166.691 | J19: =SUM(J11:J18) -> 27293.772 | ... N19: =SUM(N11:N18) -> 0
A21: Секретар ради Лілія МЕДВЕДЄВА
A22: Заступник міського голови з питань діяльності виконавчих органів Віталій БАТРАК

Sheet заходи-2020
O1: Додаток 1 до інформації про результати виконання Програми соціально-економічного та культурного розвитку м.Курахове за 2020 рік
A2: Заходи щодо виконання завдань Програми соціально-економічного та культурного розвитку м.Курахове за 2020 рік
A3: № і назва завдання Стратегії розвитку Донецької області на період до 2020 року | B3: № з/п | C3: Зміст заходу | D3: Термін виконан- ня | E3: Виконавець | F3: Витрати на реалізацію, тис.грн. | R3: Очікуваний результат
F4: Всього | H4: у тому числі за рахунок коштів:
H5: Держав- ного бюджету | J5: місцевих бюджетів | N5: підпри- ємств | P5: інших джерел | R5: найменування показника | S5: значення показника
J6: облас- ного бюджету | L6: бюджету міст і районів
F7: план | G7: факт | H7: план | I7: факт | J7: план | K7: факт | L7: план | M7: факт | N7: план | O7: факт | P7: план | Q7: факт | S7: план | T7: факт
A8: 1 | B8: 2 | C8: 3 | D8: 4 | E8: 5 | F8: 6 | G8: 7 | H8: 8 | I8: 9 | J8: 10 | K8: 11 | L8: 12 | M8: 13 | N8: 14 | O8: 15 | P8: 16 | Q8: 17 | R8: 18 | S8: 19 | T8: 20
A9: 3.1.7 Житлове господарство та комунальна інфраструктура
A10: 1.1.2 Забезпечувати ефективне функціонування житлово-комунального господарства та безперебійне енерго-, газо- та водопостачання об’єктів соціальної сфери, освіти, охорони здоров’я | B10: 1 | C10: Забезпечення якісного управління житловим фондом та поліпшення умов проживання мешканців | F10: =F11+F14+F15+F16+F17+F19 -> 4211.439 | G10: =G11+G14+G15+G16+G17+G19 -> 3716.455 | H10: =H11+H14+H15+H16+H17+H19 -> 0 | I10: =I11+I14+I15+I16+I17+I19 -> 0 | J10: =J11+J14+J15+J16+J17+J19 -> 0 | K10: =K11+K14+K15+K16+K17+K19 -> 0 | L10: =L11+L14+L15+L16+L17+L19 -> 703.839 | M10: =M11+M14+M15+M16+M17+M19 -> 700.617 | ... Q10: =Q11+Q14+Q15+Q16+Q17+Q19 -> 0
B11: 1.1 | C11: Реконструкція / капітальний ремонт житлових будинків, з них | F11: =F12+F13 -> 0 | G11: =G12+G13 -> 0 | H11: =H12+H13 -> 0 | I11: =I12+I13 -> 0 | J11: =J12+J13 -> 0 | K11: =K12+K13 -> 0 | L11: =L12+L13 -> 0 | M11: =M12+M13 -> 0 | ... Q11: =Q12+Q13 -> 0
B12: 1.1.1 | C12: Реконструкція / капітальний ремонт житлових будинків (будівельних конструкцій, інженерних комунікацій)
B13: 1.1.2 | C13: Реконструкція/капітальний ремонт житлових будинків з застосуванням заходів з енергоефективності
B14: 1.1 | C14: Поточний ремонт житлового фонду комунальної власності територіальної громади м.Курахове | D14: 2020 | E14: КП "МСЕЗ" КМР" | F14: =H14+J14+L14+N14+P14 -> 4097.6 | G14: =I14+K14+M14+O14+Q14 -> 3615.616 | L14: 600 | M14: 599.778 | N14: 3497.6 | O14: 3015.838 | R14: од. | S14: 170
B15: 1.3 | C15: Капітальний ремонт, модернізація, заміна, експертна оцінка ліфтів
B16: 1.2 | C16: Створення безбар’єрного середовища для осіб з інвалідністю (влаштування під'їздів для інвалідів) | D16: 2020 | F16: =H16+J16+L16+N16+P16 -> 10 | G16: =I16+K16+M16+O16+Q16 -> 0 | P16: 10
B17: 1.5 | C17: Реконструкція та ремонт об’єктів з метою компактного проживання внутрішньо переміщених осіб
B18: 1.6 | C18: Відновлення систем автоматичного протипожежного захисту в будинках підвищеної поверховості
B19: 1.3 | C19: Технічне обслуговування мереж газопостачаня у м. Курахове Мар'їнского району Донецької області | D19: 2020 | E19: Курахівська міська рада | F19: =H19+J19+L19+N19+P19 -> 103.839 | G19: =I19+K19+M19+O19+Q19 -> 100.839 | L19: 103.839 | M19: 100.839
B20: 2. | C20: Підтримка житлового фонду при створені та функціонуванні об'єднань співвласників багатоквартирних будинків | F20: =H20+J20+L20+N20+P20 -> 15 | G20: =I20+K20+M20+O20+Q20 -> 0 | H20: =H21+H22 -> 0 | I20: =I21+I22 -> 0 | J20: =J21+J22 -> 0 | K20: =K21+K22 -> 0 | L20: =L21+L22 -> 0 | M20: =M21+M22 -> 0 | N20: =N21+N22 -> 0 | O20: =O21+O22 -> 0 | ... Q20: =Q21+Q22 -> 0
B21: 2.1. | C21: Місцева Програма підтримки ОСББ (у разі наявності) | F21: =H21+J21+L21+N21+P21 -> 0 | G21: =I21+K21+M21+O21+Q21 -> 0
B22: 2.1. | C22: Інші заходи спрямовані на підтримку ОСББ ( проведення ремонтів, надання фінпідтримки інше) | F22: =H22+J22+L22+N22+P22 -> 15 | G22: =I22+K22+M22+O22+Q22 -> 0 | P22: 15
B23: 3. | C23: Забезпечення реалізації заходів з капітального ремонту та реконструкції теплового господарства | F23: =H23+J23+L23+N23+P23 -> 6179.275 | G23: =I23+K23+M23+O23+Q23 -> 829.254 | H23: =SUM(H24:H27) -> 0 | J23: =SUM(J24:J27) -> 0 | L23: =SUM(L24:L27) -> 5204.275 | M23: =M24+M25+M26+M27 -> 271.038 | N23: =SUM(N24:N27) -> 975 | O23: =SUM(O24:O27) -> 558.216 | P23: =P24+P27 -> 0 | Q23: =Q24+Q27 -> 0
B24: 3.1. | C24: Заміна квартальної лінії тепломережі по вул. Енергетиків | D24: 2020 | E24: Курахівська ТЕС | F24: =H24+J24+L24+N24+P24 -> 260 | G24: =I24+K24+M24+O24+Q24 -> 284.779 | N24: 260 | O24: 284.779 | R24: п.м у однотрубному вимірюванні | S24: 700 | T24: 656
B25: 3.2. | C25: Поточний ремонт теплокамер | D25: 2020 | E25: Курахівська міська рада | F25: =H25+J25+L25+N25+P25 -> 1000 | G25: =I25+K25+M25+O25+Q25 -> 164.628 | L25: 1000 | M25: 164.628 | R25: од. | T25: 9
B26: 3.3. | C26: Заміна теплоізоляції лінії зовнішніх тепломереж | D26: 2020 | E26: Курахівська міська рада | F26: =H26+J26+L26+N26+P26 -> 4004.275 | G26: =I26+K26+M26+O26+Q26 -> 0 | L26: 4004.275 | R26: п.м.
B27: 3.4. | C27: Ремонт і заміна теплових мереж | D27: 2020 | E27: Курахівська ТЕС, Курахівська міська рада | F27: =H27+J27+L27+N27+P27 -> 915 | G27: =I27+K27+M27+O27+Q27 -> 379.847 | L27: 200 | M27: 106.41 | N27: 715 | O27: 273.437 | R27: п.м у однотрубному вимірюванні | S27: 450 | T27: 195.48
B28: 4. | C28: Забезпечення реалізації заходів з капітального ремонту та реконструкції водопровідно-каналізаційного господарства | F28: =H28+J28+L28+N28+P28 -> 1682.146 | G28: =I28+K28+M28+O28+Q28 -> 927.251 | H28: =SUM(H29:H33) -> 0 | I28: =SUM(I29:I33) -> 0 | J28: =SUM(J29:J33) -> 0 | K28: =SUM(K29:K33) -> 0 | L28: =SUM(L29:L33) -> 767.548 | M28: =SUM(M29:M33) -> 437.131 | N28: =SUM(N29:N33) -> 914.598 | O28: =SUM(O29:O33) -> 490.12 | ... Q28: =SUM(Q29:Q33) -> 0
B29: 4.1 | C29: Ремонт водопровідних мереж | D29: 2020 | E29: Курахівська ТЕС, Курахівська міська рада | F29: =H29+J29+L29+N29+P29 -> 789.832 | G29: =I29+K29+M29+O29+Q29 -> 385.178 | L29: 609.832 | M29: 285.678 | N29: 180 | O29: 99.5 | R29: п.м. | S29: 750 | T29: 312.5
B30: 4.2 | C30: Розробка техніко-економічного обгрунтування "Будівництво водоводу та споруд для с. Степанівка, с. Острівське, смт. Іллінка" | D30: 2020 | E30: Курахівська міська рада | F30: =H30+J30+L30+N30+P30 -> 0 | G30: =I30+K30+M30+O30+Q30 -> 0
B31: 4.3 | C31: Поточний ремонт та обслуговування зовнішніх мереж та об'єктів системи водовідведення | D31: 2020 | E31: КП "МСЄЗ" КМР" | F31: =H31+J31+L31+N31+P31 -> 734.598 | G31: =I31+K31+M31+O31+Q31 -> 390.62 | N31: 734.598 | O31: 390.62 | R31: п.м. | S31: 280 | T31: 260
B32: 4.4 | C32: Дезобробка, утримання колодязів | D32: 2020 | E32: Курахівська міська рада | F32: =H32+J32+L32+N32+P32 -> 57.716 | G32: =I32+K32+M32+O32+Q32 -> 54.694 | L32: 57.716 | M32: 54.694 | R32: од. | S32: 5
B33: 4.5 | C33: Облсуговування пожежних гідрантів | D33: 2020 | E33: Курахівська міська рада | F33: =H33+J33+L33+N33+P33 -> 100 | G33: =I33+K33+M33+O33+Q33 -> 96.759 | L33: 100 | M33: 96.759
B34: 5 | C34: Забезпечення реалізації заходів з ремонту та технічного обслуговування газового господарства | D34: 2020 | E34: Курахівська міська рада | F34: =SUM(F35) -> 56.861 | G34: =SUM(G35) -> 54.328 | H34: =SUM(H35) -> 0 | I34: =SUM(I35) -> 0 | J34: =SUM(J35) -> 0 | K34: =SUM(K35) -> 0 | L34: =SUM(L35) -> 56.861 | M34: =SUM(M35) -> 54.328 | ... Q34: =SUM(Q35) -> 0
B35: 5.1. | C35: Технічне обслуговування розподільчих газопроводів середнього тиску | D35: 2020 | E35: Курахівська міська рада | F35: =H35+J35+L35+N35+P35 -> 56.861 | G35: =I35+K35+M35+O35+Q35 -> 54.328 | L35: 56.861 | M35: 54.328
B36: 6. | C36: Благоустрій територій населених пунктів | F36: =H36+J36+L36+N36+P36 -> 26434.168 | G36: =I36+K36+M36+O36+Q36 -> 25830.658 | H36: =H37+H41+H43+H47+H48+H50+H57+H60+H61 -> 0 | I36: =I37+I41+I43+I47+I48+I50+I57+I60+I61 -> 0 | J36: =J37+J41+J43+J47+J48+J50+J57+J60+J61 -> 0 | K36: =K37+K41+K43+K47+K48+K50+K57+K60+K61 -> 0 | L36: =L37+L41+L43+L47+L48+L50+L57+L60+L61 -> 26434.168 | M36: =M37+M41+M43+M47+M48+M50+M57+M60+M61 -> 25830.658 | N36: =N37+N41+N43+N47+N48+N50+N57+N60+N61 -> 0 | O36: =O37+O41+O43+O47+O48+O50+O57+O60+O61 -> 0 | ... Q36: =Q37+Q41+Q43+Q47+Q48+Q50+Q57+Q60+Q61 -> 0
B37: 6.1. | C37: Утримання та ремонт дорожньо-мостового господарства (комунального значення) | F37: =SUM(F38:F40) -> 10202.922 | G37: =SUM(G38:G40) -> 10237.92 | H37: =SUM(H38:H40) -> 0 | I37: =SUM(I38:I40) -> 0 | J37: =SUM(J38:J40) -> 0 | K37: =SUM(K38:K40) -> 0 | L37: =SUM(L38:L40) -> 10202.922 | M37: =SUM(M38:M40) -> 10237.92 | ... Q37: =SUM(Q38:Q40) -> 0
B38: 6.1.1 | C38: поточний та ямковий ремонт доріг, відсипання доріг шлаком, нанесення дорожньої розмітки та встановлення дорожніх знаків у м. Курахове, Мар'їнського району, Донецької області | D38: 2020 | E38: Курахівська міська рада | F38: =H38+J38+L38+N38+P38 -> 6427.211 | G38: =I38+K38+M38+O38+Q38 -> 6427.211 | L38: 6427.211 | M38: 6427.211
B39: 6.1.2 | C39: Придбання та встановлення автобусної зупинки на вул. Нова Іллінка автомобільної дороги державного значення Т- 05-25 Михайлівка- Селидове- Курахове» | D39: 2020 | E39: Курахівська міська рада | F39: =H39+J39+L39+N39+P39 -> 0 | G39: =I39+K39+M39+O39+Q39 -> 35 | M39: 35
B40: 6.1.3 | C40: Роботи згідно робочого проекту «Реконструкція проспекту Миру від вул. Пушкіна до вул. Побєда у м. Курахове» | D40: 2020 | E40: Курахівська міська рада | F40: =H40+J40+L40+N40+P40 -> 3775.711 | G40: =I40+K40+M40+O40+Q40 -> 3775.709 | L40: 3775.711 | M40: 3775.709
...
