Workbook

Sheet Доходи
C1: Додаток 1
C2: до розпорядження начальника
C3: міської військової адміністрації
C4: 24.12.2025 № 420-р/МВА
C5: (в редакції розпорядження начальника
C6: міської військової адміністрації
C7: 09.09.2026 № 220-р/МВА)
A9: Доходи місцевого бюджету на 2026 рік
A10: 0552500000
B11: (код бюджету) | F11: (грн)
A12: Код | B12: Найменування згідно з Класифікацією доходів бюджету | C12: Усього | D12: Загальний фонд | E12: Спеціальний фонд
E13: усього | F13: у тому числі бюджет розвитку
A14: 1 | B14: 2 | C14: 3 | D14: 4 | E14: 5 | F14: 6
A15: 10000000 | B15: Податкові надходження | C15: =SUM(D15:E15) -> 19270100 | D15: =SUM(D16,D26,D31,D39,D56) -> 19270100 | E15: =SUM(E16,E26,E31,E39,E56) -> 0 | F15: =SUM(F16,F26,F31,F39,F56) -> 0
A16: 11000000 | B16: Податки на доходи, податки на прибуток, податки на збільшення ринкової вартості | C16: =SUM(D16:E16) -> 19270100 | D16: =SUM(D17,D23) -> 19270100 | E16: =SUM(E17,E23) -> 0 | F16: =SUM(F17,F23) -> 0
A17: 11010000 | B17: Податок та збір на доходи фізичних осіб | C17: =SUM(D17:E17) -> 19270100 | D17: =SUM(D18:D22) -> 19270100 | E17: =SUM(E18:E21) -> 0 | F17: =SUM(F18:F21) -> 0
A18: 11010100 | B18: Податок на доходи фізичних осіб, що сплачується податковими агентами, із доходів платника податку у вигляді заробітної плати | C18: =SUM(D18:E18) -> 19270100 | D18: 19270100
A19: 11010200 | B19: Податок на доходи фізичних осіб з грошового забезпечення, грошових винагород та інших виплат, одержаних військовослужбовцями та особами рядового і начальницького складу, що сплачується податковими агентами | C19: =SUM(D19:E19) -> 0 | D19: 0
A20: 11010400 | B20: Податок на доходи фізичних осіб, що сплачується податковими агентами із доходів платника податку інших ніж заробітна плата | C20: =SUM(D20:E20) -> 0 | D20: 0
A21: 11010500 | B21: Податок на доходи фізичних осіб, що сплачується фізичними особами за результатами річного декларування | C21: =SUM(D21:E21) -> 0 | D21: 0
A22: 11011200 | B22: Податок на доходи фізичних осіб із доходів спеціалістів резидента Дія Сіті | C22: =SUM(D22:E22) -> 0 | D22: 0
A23: 11020000 | B23: Податок на прибуток підприємств | C23: =SUM(D23:E23) -> 0 | D23: =SUM(D24:D25) -> 0 | E23: =SUM(E24:E25) -> 0 | F23: =SUM(F24:F25) -> 0
A24: 11020200 | B24: Податок на прибуток підприємств та фінансових установ комунальної власності | C24: =SUM(D24:E24) -> 0
A25: 11023200 | B25: Авансові внески з податку на прибуток підприємств та фінансових установ комунальної власності | C25: =SUM(D25:E25) -> 0
A26: 13000000 | B26: Рентна плата та плата за використання інших природних ресурсів | C26: =SUM(D26:E26) -> 0 | D26: =SUM(D27,D29) -> 0 | E26: =SUM(E27,E29) -> 0 | F26: =SUM(F27,F29) -> 0
A27: 13010000 | B27: Рентна плата за спеціальне використання лісових ресурсів | C27: =SUM(D27:E27) -> 0 | D27: =D28 -> 0
A28: 13010200 | B28: Рентна плата за спеціальне використання лісових ресурсів (крім рентної плати за спеціальне використання лісових ресурсів в частині деревини, заготовленої в порядку рубок головного користування) | C28: =SUM(D28:E28) -> 0
A29: 13030000 | B29: Рентна плата за користування надрами загальнодержавного значення | C29: =SUM(D29:E29) -> 0 | D29: =D30 -> 0
A30: 13030100 | B30: Рентна плата за користування надрами для видобування інших корисних копалин загальнодержавного значення | C30: =SUM(D30:E30) -> 0
A31: 14000000 | B31: Внутрiшнi податки на товари та послуги | C31: =SUM(D31:E31) -> 0 | D31: =SUM(D32,D34,D36) -> 0 | E31: =SUM(E32,E34,E36) -> 0 | F31: =SUM(F32,F34,F36) -> 0
A32: 14020000 | B32: Акцизний податок з вироблених в Україні підакцизних товарів (продукції) | C32: =SUM(D32:E32) -> 0 | D32: =D33 -> 0 | E32: =E33 -> 0 | F32: =F33 -> 0
A33: 14021900 | B33: Пальне | C33: =SUM(D33:E33) -> 0 | D33: 0
A34: 14030000 | B34: Акцизний податок з ввезених на митну територію України підакцизних товарів (продукції) | C34: =SUM(D34:E34) -> 0 | D34: =D35 -> 0 | E34: =E35 -> 0 | F34: =F35 -> 0
A35: 14031900 | B35: Пальне | C35: =SUM(D35:E35) -> 0 | D35: 0
A36: 14040000 | B36: Акцизний податок з реалізації суб’єктами госпо-дарювання роздрібної торгівлі підакцизних товарів | C36: =SUM(D36:E36) -> 0 | D36: =SUM(D37,D38) -> 0
A37: 14040100 | B37: Акцизний податок з реалізації виробниками та/або імпортерами, у тому числі в роздрібній торгівлі тютюнових виробів, тютюну та промислових замінників тютюну, рідин, що використовуються в електронних сигаретах, що оподатковується згідно з підпунктом 213.1.14 пункту 213.1 статті 213 Податкового кодексу України | C37: =SUM(D37:E37) -> 0 | D37: 0
A38: 14040200 | B38: Акцизний податок з реалізації суб'єктами господарювання роздрібної торгівлі підакцизних товарів (крім тих, що оподатковуються згідно з підпунктом 213.1.14 пункту 213.1 статті 213 Податкового кодексу України) | C38: =SUM(D38:E38) -> 0
A39: 18000000 | B39: Місцеві податки | C39: =SUM(D39:E39) -> 0 | D39: =SUM(D40,D51:D52) -> 0 | E39: =SUM(E40,E51:E52) -> 0 | F39: =SUM(F40,F51:F52) -> 0
A40: 18010000 | B40: Податок на майно | C40: =SUM(D40:E40) -> 0 | D40: =SUM(D41:D50) -> 0 | E40: =SUM(E41:E50) -> 0 | F40: =SUM(F41:F50) -> 0
A41: 18010100 | B41: Податок на нерухоме майно, відмінне від земельної ділянки, сплачений юридичними особами | C41: =SUM(D41:E41) -> 0 | D41: 0
...

Sheet Фінансування
D1: Додаток 2
D2: до розпорядження начальника
D3: міської військової адміністрації
D4: від ________________№_________
D5: (в редакції розпорядження начальника
D6: Курахівської міської військової адміністрації
D7: від 11.11.2022 № 147-р/МВА)
C10: Фінансування місцевого бюджету на 2026 рік
C11: 0552500000
C12: (код бюджету) | D12: Загальний фонд | F12: (грн.)
B13: Найменування згідно з Класифікацією фінансування бюджету | C13: Усього | E13: Спеціальний фонд | G13: Усього
D14: 3 | E14: усього | F14: у тому числі бюджет розвитку
A15: 1 | B15: 2 | E15: 4 | F15: 5 | G15: 6
A16: Фінансування за типом кредитора
A17: 200000 | B17: Внутрішнє фінансування | C17: =C18 -> 5000000 | D17: =D27 -> 5000000 | E17: =E24 -> 0 | F17: =SUM(F18,F24) -> 0 | G17: =SUM(D17:E17) -> 5000000
A18: 206000 | B18: Зміни обсягів депозитів і цінних паперів, що використовуються для управління ліквідністю | C18: =C25 -> 5000000 | D18: =D25 -> 0 | E18: =E19-E22 -> 0 | F18: =F19-F22 -> 0 | G18: =SUM(D18:E18) -> 0
A19: 206100 | B19: Повернення бюджетних коштів з депозитів, надходження внаслідок продажу/пред'явлення цінних паперів | C19: =SUM(D18:E18) -> 0 | D19: =D20+D21 -> 0 | E19: =E20 -> 0 | F19: =F20 -> 0 | G19: =SUM(D19:E19) -> 0
A20: 206110 | B20: Повернення бюджетних коштів з депозитів | C20: =SUM(D19:E19) -> 0 | G20: =SUM(D20:E20) -> 0
A21: 206120 | B21: Надходження внаслідок продажу/пред'явлення цінних паперів | C21: =SUM(D20:E20) -> 0
A22: 206200 | B22: Розміщення бюджетних коштів на депозитах або придбання цінних паперів | C22: =SUM(D21:E21) -> 0 | D22: =D23 -> 0 | E22: =E23 -> 0 | F22: =F23 -> 0 | G22: =SUM(D22:E22) -> 0
A23: 206210 | B23: Розміщення бюджетних коштів на депозитах | C23: =SUM(D22:E22) -> 0 | G23: =SUM(D23:E23) -> 0
A24: 208000 | B24: Фінансування за рахунок зміни залишків коштів бюджетів | C24: =SUM(D23:E23) -> 0 | D24: =D28 -> 0 | E24: =E25-E26+E28+E27 -> 0 | F24: =F25-F26+F28+F27 -> 0 | G24: =SUM(D24:E24) -> 0
A25: 208100 | B25: На початок періоду | C25: =D25+E25 -> 5000000 | E25: 5000000 | G25: =SUM(D25:E25) -> 5000000
A26: 208200 | B26: На кінець періоду | C26: =SUM(D25:E25) -> 5000000 | E26: 0 | G26: =SUM(D26:E26) -> 0
A27: 208320 | B27: Передача коштів із спеціального до загального фонду бюджету | C27: =SUM(D26:E26) -> 0 | D27: 5000000 | E27: -5000000
A28: 208400 | B28: Кошти, що передаються із загального фонду бюджету до бюджету розвитку (спеціального фонду) | C28: 0 | D28: 0 | E28: 0 | F28: 0 | G28: =SUM(D28:E28) -> 0
A29: х | B29: Загальне фінансування | E29: =E17 -> 0 | F29: =F17 -> 0 | G29: =SUM(D29:E29) -> 0
C30: =SUM(D29:E29) -> 0 | G30: =SUM(D30:E30) -> 0
D31: =D32 -> 0 | E31: =E32 -> 0 | F31: =F32 -> 0 | G31: =SUM(D31:E31) -> 0
G32: =SUM(D32:E32) -> 0
D33: =D34 -> 0 | E33: =E34 -> 0 | F33: =F34 -> 0 | G33: =SUM(D33:E33) -> 0
D34: =SUM(D35:D36) -> 0 | E34: =SUM(E35:E36) -> 0 | F34: =SUM(F35:F36) -> 0 | G34: =SUM(D34:E34) -> 0
G35: =SUM(D35:E35) -> 0
G36: =SUM(D36:E36) -> 0
A37: Фінансування за типом боргового зобов'язання
A38: 600000 | B38: Фінансування за активними операціями | C38: =C39 -> 0 | D38: =D39 -> 0 | E38: =SUM(E39,E45) -> 0 | F38: =SUM(F39,F45) -> 0 | G38: =SUM(D38:E38) -> 0
A39: 601000 | B39: Зміни обсягів депозитів і цінних паперів, що використовуються для управління ліквідністю | C39: =SUM(D38:E38) -> 0 | D39: =D40-D43+D46 -> 0 | E39: =E40-E43 -> 0 | F39: =F40-F43 -> 0 | G39: =SUM(D39:E39) -> 0
A40: 601100 | B40: Повернення бюджетних коштів з депозитів, надходження внаслідок продажу/пред'явлення цінних паперів | C40: =SUM(D39:E39) -> 0 | D40: =D41+D42 -> 0 | E40: =E41 -> 0 | F40: =F41 -> 0 | G40: =SUM(D40:E40) -> 0
A41: 601110 | B41: Повернення бюджетних коштів з депозитів | C41: =SUM(D40:E40) -> 0 | G41: =SUM(D41:E41) -> 0
A42: 601120 | B42: Надходження внаслідок продажу/пред'явлення цінних паперів | C42: =SUM(D41:E41) -> 0
...

Sheet Видатки
M1: Додаток 3
M2: до розпорядження начальника
M3: міської військової адміністрації
M4: 24.12.2025 № 420-р/МВА
M5: (в редакції розпорядження начальника
M6: міської військової адміністрації
M7: 09.09.2026 № 220-р/МВА)
A9: РОЗПОДІЛ
A10: видатків місцевого бюджету на 2026 рік
A11: 0552500000
A12: (код бюджету) | P12: (грн)
A13: Код Програмної класифікації видатків та кредитування місцевого бюджету | B13: Код Типової програмної класифікації видатків та кредитування місцевого бюджету | C13: Код Функціональної класифікації видатків та кредитування бюджету | D13: Найменування головного розпорядника коштів місцевого бюджету/ відповідального виконавця, найменування бюджетної програми згідно з Типовою програмною класифікацією видатків та кредитування місцевого бюджету | E13: Загальний фонд | J13: Спеціальний фонд | P13: РАЗОМ
E14: усього | F14: видатки споживання | G14: з них | I14: видатки розвитку | J14: усього | K14: у тому числі бюджет розвитку | L14: видатки споживання | M14: з них | O14: видатки розвитку
G15: оплата праці | H15: комунальні послуги та енергоносії | M15: оплата праці | N15: комунальні послуги та енергоносії
A17: 1 | B17: 2 | C17: 3 | D17: 4 | E17: 5 | F17: 6 | G17: 7 | H17: 8 | I17: 9 | J17: 10 | K17: 11 | L17: 12 | M17: 13 | N17: 14 | O17: 15 | P17: 16
A18: 0100000 | D18: Курахiвська мiська рада | E18: 191054749 | F18: 175058000 | G18: 32138232 | H18: 2539747 | I18: 15996749 | J18: 0 | K18: 0 | L18: 0 | M18: 0 | N18: 0 | O18: 0 | P18: =E18 + J18 -> 191054749
A19: 0110000 | D19: Курахiвська мiська рада | E19: 165623972 | F19: 164341842 | G19: 27782324 | H19: 1810887 | I19: 1282130 | J19: 0 | K19: 0 | L19: 0 | M19: 0 | N19: 0 | O19: 0 | P19: =E19 + J19 -> 165623972
A20: 0110150 | B20: 0150 | C20: 0111 | D20: Організаційне, інформаційно-аналітичне та матеріально-технічне забезпечення діяльності обласної ради, районної ради, районної у місті ради (у разі її створення), міської, селищної, сільської рад | E20: 40613203 | F20: 39627266 | G20: 27782324 | H20: 1810887 | I20: 985937 | J20: 0 | K20: 0 | L20: 0 | M20: 0 | N20: 0 | O20: 0 | P20: =E20 + J20 -> 40613203
A21: 0110180 | B21: 0180 | C21: 0133 | D21: Інша діяльність у сфері державного управління | E21: 155315 | F21: 155315 | G21: 0 | H21: 0 | I21: 0 | J21: 0 | K21: 0 | L21: 0 | M21: 0 | N21: 0 | O21: 0 | P21: =E21 + J21 -> 155315
A22: 0113114 | B22: 3114 | C22: 1040 | D22: Забезпечення умов для догляду та виховання дітей і молоді в дитячих будинках сімейного типу, прийомних сім`ях та сім`ях патронатних вихователів | E22: 349287 | F22: 53094 | G22: 0 | H22: 0 | I22: 296193 | J22: 0 | K22: 0 | L22: 0 | M22: 0 | N22: 0 | O22: 0 | P22: =E22 + J22 -> 349287
A23: 0117370 | B23: 7370 | C23: 0490 | D23: Реалізація інших заходів щодо соціально-економічного розвитку територій | E23: 122930748 | F23: 122930748 | G23: 0 | H23: 0 | I23: 0 | J23: 0 | K23: 0 | L23: 0 | M23: 0 | N23: 0 | O23: 0 | P23: =E23 + J23 -> 122930748
A24: 0118110 | B24: 8110 | C24: 0320 | D24: Заходи із запобігання та ліквідації надзвичайних ситуацій та наслідків стихійного лиха | E24: 286235 | F24: 286235 | G24: 0 | H24: 0 | I24: 0 | J24: 0 | K24: 0 | L24: 0 | M24: 0 | N24: 0 | O24: 0 | P24: =E24 + J24 -> 286235
A25: 0118220 | B25: 8220 | C25: 0380 | D25: Заходи та роботи з мобілізаційної підготовки місцевого значення | E25: 1289184 | F25: 1289184 | G25: 0 | H25: 0 | I25: 0 | J25: 0 | K25: 0 | L25: 0 | M25: 0 | N25: 0 | O25: 0 | P25: =E25 + J25 -> 1289184
A26: 0120000 | D26: Курахiвська мiська рада | E26: 17367179 | F26: 3357713 | G26: 1330199 | H26: 24000 | I26: 14009466 | J26: 0 | K26: 0 | L26: 0 | M26: 0 | N26: 0 | O26: 0 | P26: =E26 + J26 -> 17367179
A27: 0120180 | B27: 0180 | C27: 0133 | D27: Інша діяльність у сфері державного управління | E27: 1811538 | F27: 1771938 | G27: 1330199 | H27: 24000 | I27: 39600 | J27: 0 | K27: 0 | L27: 0 | M27: 0 | N27: 0 | O27: 0 | P27: =E27 + J27 -> 1811538
A28: 0127693 | B28: 7693 | C28: 0490 | D28: Інші заходи, пов`язані з економічною діяльністю | E28: 13969866 | F28: 0 | G28: 0 | H28: 0 | I28: 13969866 | J28: 0 | K28: 0 | L28: 0 | M28: 0 | N28: 0 | O28: 0 | P28: =E28 + J28 -> 13969866
A29: 0128110 | B29: 8110 | C29: 0320 | D29: Заходи із запобігання та ліквідації надзвичайних ситуацій та наслідків стихійного лиха | E29: 1585775 | F29: 1585775 | G29: 0 | H29: 0 | I29: 0 | J29: 0 | K29: 0 | L29: 0 | M29: 0 | N29: 0 | O29: 0 | P29: =E29 + J29 -> 1585775
A30: 0130000 | D30: Курахiвська мiська рада | E30: 8063598 | F30: 7358445 | G30: 3025709 | H30: 704860 | I30: 705153 | J30: 0 | K30: 0 | L30: 0 | M30: 0 | N30: 0 | O30: 0 | P30: =E30 + J30 -> 8063598
A31: 0132111 | B31: 2111 | C31: 0726 | D31: Первинна медична допомога населенню, що надається центрами первинної медичної (медико-санітарної) допомоги | E31: 8063598 | F31: 7358445 | G31: 3025709 | H31: 704860 | I31: 705153 | J31: 0 | K31: 0 | L31: 0 | M31: 0 | N31: 0 | O31: 0 | P31: =E31 + J31 -> 8063598
A32: 0600000 | D32: Управління освіти Курахівської міської ради | E32: 97727990 | F32: 97727990 | G32: 78402581 | H32: 0 | I32: 0 | J32: 0 | K32: 0 | L32: 0 | M32: 0 | N32: 0 | O32: 0 | P32: =E32 + J32 -> 97727990
A33: 0610000 | D33: Управління освіти Курахівської міської ради | E33: 97727990 | F33: 97727990 | G33: 78402581 | H33: 0 | I33: 0 | J33: 0 | K33: 0 | L33: 0 | M33: 0 | N33: 0 | O33: 0 | P33: =E33 + J33 -> 97727990
A34: 0610160 | B34: 0160 | C34: 0111 | D34: Керівництво і управління у відповідній сфері у містах (місті Києві), селищах, селах, територіальних громадах | E34: 7328777 | F34: 7328777 | G34: 5828653 | H34: 0 | I34: 0 | J34: 0 | K34: 0 | L34: 0 | M34: 0 | N34: 0 | O34: 0 | P34: =E34 + J34 -> 7328777
A35: 0611010 | B35: 1010 | C35: 0910 | D35: Надання дошкільної освіти | E35: 9759023 | F35: 9759023 | G35: 7850117 | H35: 0 | I35: 0 | J35: 0 | K35: 0 | L35: 0 | M35: 0 | N35: 0 | O35: 0 | P35: =E35 + J35 -> 9759023
A36: 0611021 | B36: 1021 | C36: 0921 | D36: Надання загальної середньої освіти закладами загальної середньої освіти за рахунок коштів місцевого бюджету | E36: 5327709 | F36: 5327709 | G36: 3325010 | H36: 0 | I36: 0 | J36: 0 | K36: 0 | L36: 0 | M36: 0 | N36: 0 | O36: 0 | P36: =E36 + J36 -> 5327709
A37: 0611031 | B37: 1031 | C37: 0921 | D37: Надання загальної середньої освіти закладами загальної середньої освіти за рахунок освітньої субвенції | E37: 67787800 | F37: 67787800 | G37: 55616211 | H37: 0 | I37: 0 | J37: 0 | K37: 0 | L37: 0 | M37: 0 | N37: 0 | O37: 0 | P37: =E37 + J37 -> 67787800
A38: 0611070 | B38: 1070 | C38: 0960 | D38: Надання позашкільної освіти закладами позашкільної освіти, заходи із позашкільної роботи з дітьми | E38: 1129897 | F38: 1129897 | G38: 926145 | H38: 0 | I38: 0 | J38: 0 | K38: 0 | L38: 0 | M38: 0 | N38: 0 | O38: 0 | P38: =E38 + J38 -> 1129897
A39: 0611142 | B39: 1142 | C39: 0990 | D39: Інші програми та заходи у сфері освіти | E39: 279920 | F39: 279920 | G39: 0 | H39: 0 | I39: 0 | J39: 0 | K39: 0 | L39: 0 | M39: 0 | N39: 0 | O39: 0 | P39: =E39 + J39 -> 279920
A40: 0611160 | B40: 1160 | C40: 0990 | D40: Забезпечення діяльності центрів професійного розвитку педагогічних працівників | E40: 1039664 | F40: 1039664 | G40: 852183 | H40: 0 | I40: 0 | J40: 0 | K40: 0 | L40: 0 | M40: 0 | N40: 0 | O40: 0 | P40: =E40 + J40 -> 1039664
A41: 0611184 | B41: 1184 | C41: 0990 | D41: Виконання заходів, спрямованих на реалізацію публічного інвестиційного проекту на забезпечення якісної, сучасної та доступної загальної середньої освіти `Нова українська школа` за рахунок субвенції з державного бюджету місцевим бюджетам | E41: 0 | F41: 0 | G41: 0 | H41: 0 | I41: 0 | J41: 0 | K41: 0 | L41: 0 | M41: 0 | N41: 0 | O41: 0 | P41: =E41 + J41 -> 0
A42: 0611200 | B42: 1200 | C42: 0990 | D42: Проведення (надання) додаткових психолого- педагогічних і корекційно-розвиткових занять (послуг) за рахунок субвенції з державного бюджету місцевим бюджетам на надання державної підтримки особам з особливими освітніми потребами | E42: 44700 | F42: 44700 | G42: 36642 | H42: 0 | I42: 0 | J42: 0 | K42: 0 | L42: 0 | M42: 0 | N42: 0 | O42: 0 | P42: =E42 + J42 -> 44700
...

Sheet Расходы 
N1: Додаток 3
N2: до розпорядження начальника
N3: міської військової адміністрації
N4: від __________ № _________
N6: від ______________ № ___________
N7: (в редакції розпорядження начальника
N8: Курахівської міської військової адміністрації
N9: від ____________ № ___________)
N10: від 11.11.2022 № 147-р/МВА)
H11: Розподіл видатків місцевого бюджету на 2026 рік
H12: 0552500000
H13: (код бюджету)
R14: (грн.)
A15: Код Програмної класифікації видатків та кредитування місцевого бюджету | B15: Код Типової програмної класифікації видатків та кредитування місцевого бюджету | C15: Код Функціональної класифікації видатків та кредитування бюджету | D15: Найменування головного розпорядника коштів місцевого бюджету/відповідального виконавця, найменування бюджетної програми згідно з Типовою програмною класифікацією видатків та кредитування місцевого бюджету | E15: Загальний фонд | K15: Спеціальний фонд | R15: Разом
E16: усього | F16: видатки споживання | G16: з них | J16: видатки розвитку | K16: усього | L16: у тому числі бюджет розвитку | M16: видатки споживання | N16: з них | P16: видатки розвитку | Q16: з них
G17: оплата праці | H17: комунальні послуги та енергоносії | N17: оплата праці | O17: комунальні послуги та енергоносії | Q17: капітальні видатки за рахунок коштів, що передаються із загального фонду
I18: інші видатки
A19: 1 | B19: 2 | C19: 3 | D19: 4 | E19: 5 | F19: 6 | G19: 7 | H19: 8 | J19: 9 | K19: 10 | L19: 11 | M19: 12 | N19: 13 | O19: 14 | P19: 15 | R19: 16
A20: 0100000 | D20: Курахівська міська рада | E20: =E21 -> 191054749 | F20: =F21 -> 175058000 | G20: =G21 -> 32138232 | H20: =H21 -> 2539747 | I20: =I21 -> 0 | J20: =J21 -> 15996749 | K20: =K21 -> 0 | L20: =L21 -> 0 | ... Q20: =Q21 -> 22435210 | R20: =SUM(E20,K20) -> 191054749
A21: 0110000 | D21: Курахівська міська рада | E21: =SUM(E22:E86) -> 191054749 | F21: =SUM(F22:F86) -> 175058000 | G21: =SUM(G22:G86) -> 32138232 | H21: =SUM(H22:H86) -> 2539747 | I21: =SUM(I22:I86) -> 0 | J21: =SUM(J22:J86) -> 15996749 | K21: =SUM(K22:K86) -> 0 | L21: =SUM(L22:L86) -> 0 | ... Q21: =SUM(Q22:Q86) -> 22435210 | R21: =SUM(E21,K21) -> 191054749
R22: =SUM(E22,K22) -> 0
A23: 0110150 | B23: 0150 | C23: 0111 | D23: Організаційне, інформаційно-аналітичне та матеріально-технічне забезпечення діяльності міської ради | E23: =38440511+985937+91061+193062+204832+99000+99000+499800 -> 40613203 | F23: =E23-J23 -> 39627266 | G23: 27782324 | H23: =168349+8115+640266+693823+1440+193062+105832 -> 1810887 | J23: =985937 -> 985937 | R23: =SUM(E23,K23) -> 40613203
A24: 0110180 | B24: 0180 | C24: 0133 | D24: Інша діяльність у сфері державного управління | E24: =85715+69600 -> 155315 | F24: =E24 -> 155315 | Q24: 10134410 | R24: =SUM(E24,K24) -> 155315
F25: =E25 -> 0 | R25: =SUM(E25,K25) -> 0
F26: =E26 -> 0 | R26: =SUM(E26,K26) -> 0
F27: =E27 -> 0 | R27: =SUM(E27,K27) -> 0
F28: =E28 -> 0 | R28: =SUM(E28,K28) -> 0
B29: 2111 | C29: 0726 | D29: Первинна медична допомога населенню, що надається центрами первинної медичної (медико-санітарної) допомоги | F29: =E29 -> 0 | R29: =SUM(E29,K29) -> 0
B30: 2111 | C30: 0726 | D30: Первинна медична допомога населенню, що надається центрами первинної медичної (медико-санітарної) допомоги | F30: =E30 -> 0 | R30: =SUM(E30,K30) -> 0
B31: 2111 | C31: 0726 | D31: Первинна медична допомога населенню, що надається центрами первинної медичної (медико-санітарної) допомоги | F31: =E31 -> 0 | R31: =SUM(E31,K31) -> 0
B32: 2144 | C32: 0763 | D32: Централізовані заходи з лікування хворих на цукровий та нецукровий діабет | F32: =E32 -> 0 | R32: =SUM(E32,K32) -> 0
B33: 2152 | C33: 0763 | D33: Інші програми та заходи у сфері охорони здоров'я | F33: =E33 -> 0 | R33: =SUM(E33,K33) -> 0
B34: 2152 | C34: 0763 | D34: Інші програми та заходи у сфері охорони здоров'я | F34: =E34 -> 0 | R34: =SUM(E34,K34) -> 0
B35: 2152 | C35: 0763 | D35: Інші програми та заходи у сфері охорони здоров'я | F35: =E35 -> 0 | R35: =SUM(E35,K35) -> 0
B36: 2152 | C36: 0763 | D36: Інші програми та заходи у сфері охорони здоров'я | F36: =E36 -> 0 | R36: =SUM(E36,K36) -> 0
A37: 0113114 | B37: 3114 | C37: 1040 | D37: Забезпечення умов для догляду та виховання дітей і молоді в дитячих будинках сімейного типу, прийомних сім’ях та сім’ях патронатних вихователів | E37: =2028+347259 -> 349287 | F37: =E37-J37 -> 53094 | J37: 296193 | R37: =SUM(E37,K37) -> 349287
B38: 3124 | C38: 1040 | D38: Створення та забезпечення діяльності спеціалізованих служб підтримки осіб, які постраждали від домашнього насильства та/або насильства за ознакою статі | F38: =E38 -> 0 | R38: =SUM(E38,K38) -> 0
B39: 3192 | C39: 1030 | D39: Надання фінансової підтримки громадським об'єднанням ветеранів і осіб з інвалідністю, діяльність яких має соціальну спрямованість | F39: =E39 -> 0 | R39: =SUM(E39,K39) -> 0
F40: =E40 -> 0 | R40: =SUM(E40,K40) -> 0
A41: 0113242 | B41: 3242 | C41: 1090 | D41: Інші заходи у сфері соціального захисту і соціального забезпечення | F41: =E41 -> 0 | Q41: 500000 | R41: =SUM(E41,K41) -> 0
...

Sheet Субвенції
D1: Додаток 5
D2: до розпорядження начальника
D3: міської військової адміністрації
D4: 24.12.2025 № 420-р/МВА
D5: (в редакції розпорядження начальника
D6: міської військової адміністрації
D7: 09.09.2026 № 220-р/МВА)
A9: Міжбюджетні трансферти на 2026 рік
B10: 0552500000
B11: (код бюджету)
B13: 1. Показники міжбюджетних трансфертів з інших бюджетів
E14: (грн)
A15: Код Класифікації доходу бюджету/Код бюджету | B15: Найменування трансферту/Найменування бюджету - надавача міжбюджетного трансферту | E15: Усього
A16: 1 | B16: 2 | E16: 3
A17: І. Трансферти до загального фонду бюджету
A18: 41020100 | B18: Базова дотація | E18: =E19 -> 0
A19: 9900000000 | B19: Державний бюджет України | E19: =Доходи!C106 -> 0
A20: 41021400 | B20: Додаткова дотація з державного бюджету місцевим бюджетам на здійснення повноважень органів місцевого самоврядування на деокупованих, тимчасово окупованих та інших територіях України, що зазнали негативного впливу у зв`язку з повномасштабною збройною агресією Російської Федерації | E20: =Доходи!C107 -> 333266700
A21: 9900000000 | B21: Державний бюджет України | E21: =E20 -> 333266700
A22: 41033900 | B22: Освітня субвенція з державного бюджету місцевим бюджетам | E22: =E23 -> 67787800
A23: 9900000000 | B23: Державний бюджет України | E23: =Доходи!C109 -> 67787800
A24: =Доходи!A110 -> 41035400 | B24: =Доходи!B110 -> Субвенція з державного бюджету місцевим бюджетам на надання державної підтримки особам з особливими освітніми потребами | E24: =Доходи!C110 -> 44700
A25: 9900000000 | B25: Державний бюджет України | E25: =E24 -> 44700
A26: =Доходи!A111 -> 41036300 | B26: =Доходи!B111 -> Субвенція з державного бюджету місцевим бюджетам на здійснення доплат педагогічним працівникам закладів загальної середньої освіти | E26: =Доходи!D111 -> 4840500
A27: 9900000000 | B27: Державний бюджет України | E27: =E26 -> 4840500
A28: 41035500 | B28: Субвенція з державного бюджету місцевим бюджетам на реалізацію заходів, спрямованих на підвищення доступності широкосмугового доступу до Інтернету в сільській місцевості | E28: =E29 -> 0
A29: 99000000000 | B29: Державний бюджет України
A30: 41035600 | B30: Субвенція з державного бюджету місцевим бюджетам на створення мережі спеціалізованих служб підтримки осіб, які постраждали від домашнього насильства та/або насильства за ознакою статі | E30: =E31 -> 0
A31: 99000000000 | B31: Державний бюджет України
A32: 41040200 | B32: Дотація з місцевого бюджету на здійснення переданих з державного бюджету видатків з утримання закладів освіти та охорони здоров'я за рахунок відповідної додаткової дотації з державного бюджету | E32: =E33 -> 883900
A33: 0510000000 | B33: Обласний бюджет Донецької області | E33: =Доходи!C113 -> 883900
A34: 41040400 | B34: Інші дотації з місцевого бюджету | E34: =Доходи!D114 -> 69093500
A35: 0510000000 | B35: Обласний бюджет Донецької області інші дотації з місцевого бюджету на здійснення заходів із соціального захисту та соціальної підтримки окремих категорій внутрішньо переміщених осіб громадами, території яких тимчасово окуповані Російською Федерацією | E35: 57680500
A36: 0510000000 | B36: Обласний бюджет Донецької області інші дотації з місцевого бюджету на здійснення заходів із надання соціальної допомоги дітям-сиротам та дітям, позбавлених батьківського піклування, громадами, території яких тимчасово окуповані Російською Федерацією | E36: 525000
A37: 0510000000 | B37: Обласний бюджет Донецької області інші дотації з місцевого бюджету на здійснення заходів із соціальної допомоги дітям з територіальних громад, території яких тимчасово окуповані Російською Федерацією, у тому числі з виплати щомісячних творчих стипендій талановитим дітям-учням мистецьких шкіл та забезпечення солодкими святковими подарунками на новорічноріздвяні заходи | E37: 1034500
A38: 0510000000 | B38: Обласний бюджет Донецької області інші дотації з місцевого бюджету на здійснення заходів з реалізації ветеранської політики громадами, території яких тимчасово окуповані Російською Федерацією | E38: 7450000
A39: 0510000000 | B39: Обласний бюджет Донецької області інші дотації з місцевого бюджету за рахунок коштів додаткової дотації з державного бюджету місцевим бюджетам відповідно до розпорядження Кабінету Міністрів України від 24.06.2026 № 618-р | E39: 2403500
A40: 41040500 | B40: Дотація з місцевого бюджету на проведення розрахунків протягом опалювального періоду за комунальні послуги та енергоносії, які споживаються установами, організаціями, підприємствами, що утримуються за рахунок відповідних місцевих бюджетів за рахунок відповідної додаткової дотації з державного бюджету
A41: 05100000000 | B41: Обласний бюджет
A42: 41051200 | B42: Субвенція з місцевого бюджету на надання державної підтримки особам з особливими освітніми потребами за рахунок відповідної субвенції з державного бюджету | E42: =E43 -> 0
...

Sheet бюджет развития
G1: Додаток 5
G2: до рішення Курахівської міської ради
G3: від 24.12.2021 № VIІI/25-13
G4: від ______________ № ___________
G5: (в редакції розпорядження начальника
G6: Курахівської міської військової адміністрації
G7: від ____________ № ___________)
G8: від 04.08.2022 № 23-р/МВА)
E9: ОБСЯГИ
E10: капітальних вкладень бюджету у розрізі інвестиційних проектів у 2022 році
A11: 0552500000
A12: (код бюджету)
A13: Код Програмної класифікації видатків та кредитування місцевого бюджету | B13: Код Типової програмної класифікації видатків та кредитування місцевого бюджету | C13: Код Функціональної класифікації видатків та кредитування бюджету | D13: Найменування головного розпорядника коштів місцевого бюджету/відповідального виконавця, найменування бюджетної програми згідно з Типовою програмною класифікацією видатків та кредитування місцевого бюджету | E13: Найменування інвестиційного проекту | F13: Загальний період реалізації проекту, (рік початку і завершення) | G13: Загальна вартість проекту, гривень | H13: Обсяг капітальних вкладень місцевого бюджету всього, гривень | I13: Обсяг капітальних вкладень місцевого бюджету у 2022 році, гривень | J13: Очікуваний рівень готовності проекту на кінець 2022 року, %
A14: 1 | B14: 2 | C14: 3 | D14: 4 | E14: 5 | F14: 6 | G14: 7 | H14: 8 | I14: 9 | J14: 10
A15: 0117325 | B15: 7325 | C15: 0443 | D15: Будівництво1 споруд, установ та закладів фізичної культури і спорту | E15: Проект реконструкції стадіону | F15: 2022 | J15: 100
A16: 0117325 | B16: 7325 | C16: 0443 | D16: Будівництво1 споруд, установ та закладів фізичної культури і спорту | E16: Будівництво футбольного поля зі штучним покриттям по вул. Мечникова в м. Курахове Покровського району Донецької області | F16: 2019-2022 | J16: 100
A17: 0117363 | B17: 7363 | C17: 0490 | D17: Виконання інвестиційних проектів в рамках здійснення заходів щодо соціально-економічного розвитку окремих територій | E17: Будівництво футбольного поля зі штучним покриттям по вул. Мечникова в м. Курахове Покровського району Донецької області | F17: 2019-2022 | J17: 100
A20: 0137322 | B20: 7322 | C20: 0443 | D20: Будівництво 1 медичних установ та закладів | E20: Виготовлення проєктно-кошторисної документації та проведення експертизи на проведення робіт з реконструкції будівлі дитячої консультації, за адресою: Донецька область, Покровський район, м. Гірник, вул. Свободи, 25 | F20: 2022 | I20: 0 | J20: 100
A21: 0617321 | B21: 7321 | C21: 0443 | D21: Будівництво1 освітніх установ та закладів | E21: Реконструкція приміщень закладу загальної середньої освіти І-ІІІ ступенів № 1 Курахівської міської ради Донецької області з метою розміщення їдальні та харчоблоку за адресою: Донецька область, Покровський район, м. Курахове, вул. Пушкіна, буд. 17 | F21: 2021-2022 | I21: 0 | J21: 100
A24: 0827323 | B24: 7323 | C24: 0443 | D24: Будівництво 1 установ та закладів соціальної сфери | E24: Виготовлення проєктно-кошторисної документації та проведення експертизи на проведення робіт з реконструкції будівлі Відділення стаціонарного догляду для постійного проживання, за адресою: Донецька обл., Покровський р-н., м.Гірник, пров.Степний, буд1 | F24: 2022 | J24: 100
A29: 0617321 | B29: 7321 | C29: 0443 | D29: Будівництво1 освітніх установ та закладів | F29: 2021 | H29: 0 | J29: 100
A30: 0617321 | B30: 7321 | C30: 0443 | D30: Будівництво1 освітніх установ та закладів | F30: 2021 | H30: 0 | J30: 100
A41: х | B41: х | C41: х | D41: УСЬОГО | E41: х | F41: х | G41: =SUM(G15:G32) -> 0 | H41: =SUM(H15:H40) -> 0 | I41: =SUM(I15:I40) -> 0 | J41: х
A42: Міський голова | F42: Роман ПАДУН
A43: Секретар ради | F43: Лілія МЕДВЕДЄВА
D44: Заступник міського голови | I44: В.В.Батрак
D45: Начальник відділу | H45: Н.Є.Пужайло
D48: Начальник фінансового управління | H48: Олена КУШНЕРЕНКО
A50: Начальник Фінансового управління | F50: Олена КУШНЕРЕНКО

Sheet прогр
H1: Додаток 7
H2: до розпорядження начальника
H3: міської військової адміністрації
H4: 24.12.2025 № 420-р/МВА
H5: (в редакції розпорядження начальника
H6: міської військової адміністрації
H7: 25.08.2026 № 206-р/МВА)
A9: Розподіл витрат місцевого бюджету на реалізацію місцевих/регіональних програм у 2026 році
A11: 0552500000
A12: (код бюджету) | J12: (грн)
A13: Код Програмної класифікації видатків та кредитування місцевого бюджету | B13: Код Типової програмної класифікації видатків та кредитування місцевого бюджету | C13: Код Функціональної класифікації видатків та кредитування бюджету | D13: Найменування головного розпорядника коштів місцевого бюджету/ відповідального виконавця, найменування бюджетної програми згідно з Типовою програмною класифікацією видатків та кредитування місцевого бюджету | E13: Найменування місцевої/ регіональної програми | F13: Дата та номер документа, яким затверджено місцеву регіональну програму | G13: Усього | H13: Загальний фонд | I13: Спеціальний фонд
I14: усього | J14: у тому числі бюджет розвитку
A15: 1 | B15: 2 | C15: 3 | D15: 4 | E15: 5 | F15: 6 | G15: 7 | H15: 8 | I15: 9 | J15: 10
A16: 0100000 | D16: Курахiвська мiська рада | G16: 148474693 | H16: 148474693 | I16: 0 | J16: 0
A17: 0110000 | D17: Курахiвська мiська рада | G17: 124855454 | H17: 124855454 | I17: 0 | J17: 0
A18: 0113114 | B18: 3114 | C18: 1040 | D18: Забезпечення умов для догляду та виховання дітей і молоді в дитячих будинках сімейного типу, прийомних сім`ях та сім`ях патронатних вихователів | E18: Програма підтримки дитячого будинку сімейного типу та прийомної сім’ї Курахівської міської територіальної громади на 2026-2028 роки (зі змінами) | F18: розпорядження від 15.05.2025 № 117-р/МВА | G18: 349287 | H18: 349287 | I18: 0 | J18: 0
A19: 0117370 | B19: 7370 | C19: 0490 | D19: Реалізація інших заходів щодо соціально-економічного розвитку територій | E19: Програма економічного і соціального розвитку Курахівської міської територіальної громади на 2026 рік (зі змінами) | F19: розпорядження від 24.12.2025 № 419-р/МВА | G19: 122930748 | H19: 122930748 | I19: 0 | J19: 0
A20: 0118110 | B20: 8110 | C20: 0320 | D20: Заходи із запобігання та ліквідації надзвичайних ситуацій та наслідків стихійного лиха | E20: Програма економічного і соціального розвитку Курахівської міської територіальної громади на 2026 рік (зі змінами) | F20: розпорядження від 24.12.2025 № 419-р/МВА | G20: 286235 | H20: 286235 | I20: 0 | J20: 0
A21: 0118220 | B21: 8220 | C21: 0380 | D21: Заходи та роботи з мобілізаційної підготовки місцевого значення | E21: Програма економічного і соціального розвитку Курахівської міської територіальної громади на 2026 рік (зі змінами) | F21: розпорядження від 24.12.2025 № 419-р/МВА | G21: 1289184 | H21: 1289184 | I21: 0 | J21: 0
A22: 0120000 | D22: Курахiвська мiська рада | G22: 15555641 | H22: 15555641 | I22: 0 | J22: 0
A23: 0127693 | B23: 7693 | C23: 0490 | D23: Інші заходи, пов`язані з економічною діяльністю | E23: Програма економічного і соціального розвитку Курахівської міської територіальної громади на 2026 рік (зі змінами) | F23: розпорядження від 24.12.2025 № 419-р/МВА | G23: 1487430 | H23: 1487430 | I23: 0 | J23: 0
A24: 0127693 | B24: 7693 | C24: 0490 | D24: Інші заходи, пов`язані з економічною діяльністю | E24: 'Програма підтримки комунального підприємства «Міська служба єдиного замовника» Курахівської міської ради» на 2026-2028 роки (зі змінами) | F24: розпорядження від 24.11.2025 № 312-р/МВА | G24: 12482436 | H24: 12482436 | I24: 0 | J24: 0
A25: 0128110 | B25: 8110 | C25: 0320 | D25: Заходи із запобігання та ліквідації надзвичайних ситуацій та наслідків стихійного лиха | E25: Програма економічного і соціального розвитку Курахівської міської територіальної громади на 2026 рік (зі змінами) | F25: розпорядження від 24.12.2025 № 419-р/МВА | G25: 1585775 | H25: 1585775 | I25: 0 | J25: 0
A26: 0130000 | D26: Курахiвська мiська рада | G26: 8063598 | H26: 8063598 | I26: 0 | J26: 0
A27: 0132111 | B27: 2111 | C27: 0726 | D27: Первинна медична допомога населенню, що надається центрами первинної медичної (медико-санітарної) допомоги | E27: Програма економічного і соціального розвитку Курахівської міської територіальної громади на 2026 рік (зі змінами) | F27: розпорядження від 24.12.2025 № 419-р/МВА | G27: 912619 | H27: 912619 | I27: 0 | J27: 0
A28: 0132111 | B28: 2111 | C28: 0726 | D28: Первинна медична допомога населенню, що надається центрами первинної медичної (медико-санітарної) допомоги | E28: 'Програма підтримки закладів охорони здоров’я в Курахівській міській територіальній громаді на 2026 рік (зі змінами) | F28: розпорядження від 28.11.2025 № 323-р/МВА | G28: 7150979 | H28: 7150979 | I28: 0 | J28: 0
A29: 0600000 | D29: Управління освіти Курахівської міської ради | G29: 1885480 | H29: 1885480 | I29: 0 | J29: 0
A30: 0610000 | D30: Управління освіти Курахівської міської ради | G30: 1885480 | H30: 1885480 | I30: 0 | J30: 0
A31: 0611010 | B31: 1010 | C31: 0910 | D31: Надання дошкільної освіти | E31: Програма економічного і соціального розвитку Курахівської міської територіальної громади на 2026 рік (зі змінами) | F31: розпорядження від 24.12.2025 № 419-р/МВА | G31: 150000 | H31: 150000 | I31: 0 | J31: 0
A32: 0611021 | B32: 1021 | C32: 0921 | D32: Надання загальної середньої освіти закладами загальної середньої освіти за рахунок коштів місцевого бюджету | E32: Програма економічного і соціального розвитку Курахівської міської територіальної громади на 2026 рік (зі змінами) | F32: розпорядження від 24.12.2025 № 419-р/МВА | G32: 967060 | H32: 967060 | I32: 0 | J32: 0
A33: 0611021 | B33: 1021 | C33: 0921 | D33: Надання загальної середньої освіти закладами загальної середньої освіти за рахунок коштів місцевого бюджету | E33: Програма з утвердження української національної та громадянської ідентичності у Курахівській міській територіальній громаді на 2026-2028 роки (зі змінами) | F33: розпорядження від 26.03.2026 № 79-р/МВА | G33: 298500 | H33: 298500 | I33: 0 | J33: 0
A34: 0611142 | B34: 1142 | C34: 0990 | D34: Інші програми та заходи у сфері освіти | E34: Програма підтримки та розвитку обдарованих дітей та талановитої молоді на 2021-2027 роки (зі змінами) | F34: рішення сесії від 19.05.2021 № VІІІ/10-55 | G34: 250960 | H34: 250960 | I34: 0 | J34: 0
A35: 0611142 | B35: 1142 | C35: 0990 | D35: Інші програми та заходи у сфері освіти | E35: Програма економічного і соціального розвитку Курахівської міської територіальної громади на 2026 рік (зі змінами) | F35: розпорядження від 24.12.2025 № 419-р/МВА | G35: 28960 | H35: 28960 | I35: 0 | J35: 0
A36: 0613134 | B36: 3134 | C36: 1040 | D36: Здійснення заходів та реалізація проектів на виконання програм у сфері утвердження української національної та громадянської ідентичності | E36: Програма з утвердження української національної та громадянської ідентичності у Курахівській міській територіальній громаді на 2026-2028 роки (зі змінами) | F36: розпорядження від 26.03.2026 № 79-р/МВА | G36: 190000 | H36: 190000 | I36: 0 | J36: 0
A37: 0800000 | D37: Управління соціального захисту населення Курахівської міської ради | G37: 116813825 | H37: 116813825 | I37: 0 | J37: 0
A38: 0810000 | D38: Управління соціального захисту населення Курахівської міської ради | G38: 104319140 | H38: 104319140 | I38: 0 | J38: 0
A39: 0813114 | B39: 3114 | C39: 1040 | D39: Забезпечення умов для догляду та виховання дітей і молоді в дитячих будинках сімейного типу, прийомних сім`ях та сім`ях патронатних вихователів | E39: Програма економічного і соціального розвитку Курахівської міської територіальної громади на 2026 рік (зі змінами) | F39: розпорядження від 24.12.2025 № 419-р/МВА | G39: 150000 | H39: 150000 | I39: 0 | J39: 0
A40: 0813140 | B40: 3140 | C40: 1040 | D40: Оздоровлення та відпочинок дітей (крім заходів з оздоровлення дітей, що здійснюються за рахунок коштів на оздоровлення громадян, які постраждали внаслідок Чорнобильської катастрофи) | E40: Програма оздоровлення та відпочинку дітей Курахівської міської територіальної громади на 2026 рік (зі змінами) | F40: розпорядження від 02.03.2026 № 54-р/МВА | G40: 3716808 | H40: 3716808 | I40: 0 | J40: 0
A41: 0813171 | B41: 3171 | C41: 1010 | D41: Компенсаційні виплати особам з інвалідністю на бензин, ремонт, технічне обслуговування автомобілів, мотоколясок і на транспортне обслуговування | E41: Програма соціального захисту та підтримки мешканців Курахівської міської територіальної громади, в тому числі внутрішньо переміщених осіб, на 2026 рік (зі змінами) | F41: розпорядження від 12.02.2026 № 38-р/МВА | G41: 14532 | H41: 14532 | I41: 0 | J41: 0
A42: 0813191 | B42: 3191 | C42: 1030 | D42: Інші видатки на соціальний захист ветеранів війни та праці | E42: Програма підтримки ветеранів війни, Захисників і Захисниць України, членів їхніх сімей, членів сімей загиблих (померлих) ветеранів війни, членів сімей загиблих (померлих) Захисників і Захисниць України на 2026 рік (зі змінами) | F42: розпорядження від 12.02.2026 № 39-р/МВА | G42: 7930000 | H42: 7930000 | I42: 0 | J42: 0
...

Sheet Програми
H1: Додаток 5
H2: до розпорядження начальника
H3: міської військової адміністрації
H4: від 22.12.2023 № 744-р/МВА
H6: від ______________ № ___________
H7: (в редакції розпорядження начальника
H8: Курахівської міської військової адміністрації
H9: від ____________ № ___________)
H10: від 11.11.2022 № 147-р/МВА)
E11: РОЗПОДІЛ
A12: витрат місцевого бюджету на реалізацію місцевих/регіональних програм у 2025 році
E14: 0552500000
E15: (код бюджету)
I16: (грн.)
A17: Код Програмної класифікації видатків та кредитування місцевого бюджету | B17: Код Типової програмної класифікації видатків та кредитування місцевого бюджету | C17: Код Функціональної класифікації видатків та кредитування бюджету | D17: Найменування головного розпорядника коштів місцевого бюджету/відповідального виконавця, найменування бюджетної програми згідно з Типовою програмною класифікацією видатків та кредитування місцевого бюджету | E17: Найменування місцевої/регіональної програми | F17: Дата і номер документа, яким затверджено місцеву/регіональну програму | G17: Усього | H17: Загальний фонд | I17: Спеціальний фонд
I18: усього | J18: у тому числі бюджет розвитку
A19: 1 | B19: 2 | C19: 3 | D19: 4 | E19: 5 | F19: 6 | G19: 7 | H19: 8 | I19: 9 | J19: 10
A20: 0110150 | B20: 0150 | C20: 0111 | D20: Організаційне, інформаційно-аналітичне та матеріально-технічне забезпечення діяльності міської ради | E20: Проект Програми економічного і соціального розвитку Курахівської міської територіальної громади на 2023 рік | G20: =H20+I20 -> 0 | I20: 0 | J20: 0
A21: ='Расходы '!A37 -> 0113114 | B21: ='Расходы '!B37 -> 3114 | C21: ='Расходы '!C37 -> 1040 | D21: ='Расходы '!D37 -> Забезпечення умов для догляду та виховання дітей і молоді в дитячих будинках сімейного типу, прийомних сім’ях та сім’ях патронатних вихователів | E21: Програма підтримки дитячого будинку сімейного типу та прийомної сім’ї Курахівської міської територіальної громади на 2026-2028 роки | F21: 15.05.2026 від 117-р/МВА | G21: =H21+I21 -> 349287 | H21: ='Расходы '!E37 -> 349287 | I21: ='Расходы '!K37 -> 0 | J21: ='Расходы '!L24 -> 0
A22: ='Расходы '!A41 -> 0113242 | B22: ='Расходы '!B41 -> 3242 | C22: ='Расходы '!C41 -> 1090 | D22: ='Расходы '!D41 -> Інші заходи у сфері соціального захисту і соціального забезпечення | E22: Програма економічного і соціального розвитку Курахівської міської територіальної громади на 2022 рік | G22: =H22+I22 -> 0 | H22: ='Расходы '!E41 -> 0 | I22: ='Расходы '!K41 -> 0 | J22: ='Расходы '!L41 -> 0
A23: ='Расходы '!A42 -> 0116011 | B23: ='Расходы '!B42 -> 6011 | C23: ='Расходы '!C42 -> 0610 | D23: ='Расходы '!D42 -> Експлуатація та технічне обслуговування житлового фонду | E23: Програма розвитку житлово-комунального господарства та благоустрою Курахівської міської територіальної громади на 2024 рік | F23: 07.12.2023 № 705-р/МВА | G23: =H23+I23 -> 0 | H23: ='Расходы '!E42 -> 0 | I23: ='Расходы '!K42 -> 0 | J23: ='Расходы '!L42 -> 0
A24: ='Расходы '!A43 -> 0 | E24: Про затвердження Програми розвитку житлово-комунального господарства та благоустрою Курахівської міської територіальної громади на 2024 рік | F24: 07.12.2023 № 705-р/МВА | G24: =H24+I24 -> 0 | H24: ='Расходы '!E43 -> 0 | I24: ='Расходы '!K43 -> 0 | J24: ='Расходы '!L43 -> 0
A25: ='Расходы '!A44 -> 0116012 | B25: ='Расходы '!B44 -> 6012 | C25: ='Расходы '!C44 -> 0620 | D25: ='Расходы '!D44 -> Забезпечення діяльності з виробництва, транспортування, постачання теплової енергії | E25: Про затвердження Програми розвитку житлово-комунального господарства та благоустрою Курахівської міської територіальної громади на 2024 рік | F25: 07.12.2023 № 705-р/МВА | G25: =H25+I25 -> 0 | H25: ='Расходы '!E44 -> 0 | I25: ='Расходы '!K44 -> 0 | J25: ='Расходы '!L44 -> 0
A26: ='Расходы '!A45 -> 0116013 | B26: ='Расходы '!B45 -> 6013 | C26: ='Расходы '!C45 -> 0620 | D26: ='Расходы '!D45 -> Забезпечення діяльності водопровідно-каналізаційного господарства | E26: Програма забезпечення життєдіяльності населення м. Курахове, у період воєнного стану шляхом вирішення питання питного водопостачання на 2024 рік | F26: 07.12.2023 № 708-р/МВА | G26: =H26+I26 -> 0 | H26: ='Расходы '!E45-H28 -> 0 | I26: ='Расходы '!K45-I28 -> 0 | J26: ='Расходы '!L45-J28 -> 0
A27: ='Расходы '!A46 -> 0116020 | B27: ='Расходы '!B46 -> 6020 | C27: ='Расходы '!C46 -> 0620 | D27: ='Расходы '!D46 -> Забезпечення функціонування підприємств, установ та організацій, що виробляють, виконують та/або надають житлово-комунальні послуги | E27: Про затвердження Програми розвитку житлово-комунального господарства та благоустрою Курахівської міської територіальної громади на 2024 рік | F27: 07.12.2023 № 705-р/МВА | G27: =H27+I27 -> 0 | H27: ='Расходы '!E46 -> 0 | I27: ='Расходы '!K46 -> 0 | J27: ='Расходы '!L46 -> 0
A28: ='Расходы '!A45 -> 0116013 | B28: ='Расходы '!B45 -> 6013 | C28: ='Расходы '!C45 -> 0620 | D28: ='Расходы '!D45 -> Забезпечення діяльності водопровідно-каналізаційного господарства | E28: Програма забезпечення життєдіяльності населення м. Гірник, смт. Курахівка та Гостре у період воєнного стану шляхом вирішення питання водопостачання для задоволення господарсько-побутових потреб на 2023-2024 роки (із змінами та доповненнями) | F28: 14.08.2023 № 418-р/МВА | G28: =H28+I28 -> 0
A29: ='Расходы '!A47 -> 0116030 | B29: ='Расходы '!B47 -> 6030 | C29: ='Расходы '!C47 -> 0620 | D29: ='Расходы '!D47 -> Організація благоустрою населених пунктів | E29: Програма розвитку житлово-комунального господарства та благоустрою Курахівської міської територіальної громади на 2024 рік | F29: 07.12.2023 № 705-р/МВА | G29: =H29+I29 -> 0 | H29: ='Расходы '!E47 -> 0 | I29: ='Расходы '!K47 -> 0 | J29: ='Расходы '!L47 -> 0
A30: ='Расходы '!A48 -> 0 | B30: ='Расходы '!B48 -> 6030 | C30: ='Расходы '!C48 -> 0620 | D30: ='Расходы '!D48 -> Організація благоустрою населених пунктів | E30: Програма економічного і соціального розвитку Курахівської міської територіальної громади на 2022 рік | G30: =H30+I30 -> 0 | H30: ='Расходы '!E48 -> 0 | I30: ='Расходы '!K48 -> 0 | J30: ='Расходы '!L48 -> 0
A31: ='Расходы '!A49 -> 0116082 | B31: ='Расходы '!B49 -> 6082 | C31: ='Расходы '!C49 -> 0610 | D31: ='Расходы '!D49 -> Придбання житла для окремих категорій населення відповідно до законодавства | E31: Програма економічного і соціального розвитку Курахівської міської територіальної громади на 2022 рік | H31: ='Расходы '!E49 -> 0
A32: ='Расходы '!A49 -> 0116082 | B32: ='Расходы '!B49 -> 6082 | C32: ='Расходы '!C49 -> 0610 | D32: ='Расходы '!D49 -> Придбання житла для окремих категорій населення відповідно до законодавства | E32: Програма місцевих стимулів для залучення фахівців та молодих спеціалістів у галузі охорони здоров'я на 2021-2025 роки | G32: =H32+I32 -> 0 | H32: 0 | I32: 0 | J32: 0
A33: ='Расходы '!A50 -> 0 | B33: ='Расходы '!B50 -> 6083 | C33: ='Расходы '!C50 -> 0610 | D33: ='Расходы '!D50 -> Проектні, будівельно-ремонтні роботи, придбання житла та приміщень для розвитку сімейних та інших форм виховання, наближених до сімейних, та забезпечення житлом дітей-сиріт, дітей, позбавлених батьківського піклування, осіб з їх числа | E33: Програма економічного і соціального розвитку Курахівської міської територіальної громади на 2022 рік | G33: =H33+I33 -> 0 | H33: ='Расходы '!E50 -> 0 | I33: ='Расходы '!K50 -> 0 | J33: ='Расходы '!L50 -> 0
A34: ='Расходы '!A51 -> 0117130 | B34: ='Расходы '!B51 -> 7130 | C34: ='Расходы '!C51 -> 0421 | D34: ='Расходы '!D51 -> Здійснення заходів із землеустрою | E34: Програма економічного і соціального розвитку Курахівської міської територіальної громади на 2022 рік | G34: =H34+I34 -> 0 | H34: ='Расходы '!E51 -> 0 | I34: ='Расходы '!K51 -> 0 | J34: ='Расходы '!L51 -> 0
A35: ='Расходы '!A52 -> 0 | B35: ='Расходы '!B52 -> 7210 | C35: ='Расходы '!C52 -> 0432 | D35: ='Расходы '!D52 -> Організація експлуатації газового господарства | E35: Програма економічного і соціального розвитку Курахівської міської територіальної громади на 2022 рік | G35: =H35+I35 -> 0 | H35: ='Расходы '!E52 -> 0 | I35: ='Расходы '!K52 -> 0 | J35: ='Расходы '!L52 -> 0
A36: ='Расходы '!A53 -> 0 | B36: ='Расходы '!B53 -> 7310 | C36: ='Расходы '!C53 -> 0443 | D36: ='Расходы '!D53 -> Будівництво1 об'єктів житловл-комунального господарства | E36: Програма економічного і соціального розвитку Курахівської міської територіальної громади на 2022 рік | G36: =H36+I36 -> 0 | H36: ='Расходы '!E53 -> 0 | I36: ='Расходы '!K53 -> 0 | J36: ='Расходы '!L53 -> 0
A37: ='Расходы '!A54 -> 0 | B37: ='Расходы '!B54 -> 7321 | C37: ='Расходы '!C54 -> 0443 | D37: ='Расходы '!D54 -> Будівництво1 освітніх установ та закладів | E37: Програма економічного і соціального розвитку Курахівської міської територіальної громади на 2022 рік | G37: =H37+I37 -> 0 | H37: ='Расходы '!E54 -> 0 | I37: ='Расходы '!K54 -> 0 | J37: ='Расходы '!L54 -> 0
A38: ='Расходы '!A55 -> 0 | B38: ='Расходы '!B55 -> 7322 | C38: ='Расходы '!C55 -> 0443 | D38: ='Расходы '!D55 -> Будівництво1 медичних установ та закладів | E38: Програма економічного і соціального розвитку Курахівської міської територіальної громади на 2022 рік | G38: =H38+I38 -> 0 | H38: ='Расходы '!E55 -> 0 | I38: ='Расходы '!K55 -> 0 | J38: ='Расходы '!L55 -> 0
A39: ='Расходы '!A56 -> 0 | B39: ='Расходы '!B56 -> 7324 | C39: ='Расходы '!C56 -> 0443 | D39: ='Расходы '!D56 -> Будівництво1 установ та закладів культури | E39: Програма економічного і соціального розвитку Курахівської міської територіальної громади на 2022 рік | G39: =H39+I39 -> 0 | H39: ='Расходы '!E56 -> 0 | I39: ='Расходы '!K56 -> 0 | J39: ='Расходы '!L56 -> 0
A40: ='Расходы '!A57 -> 0117325 | B40: ='Расходы '!B57 -> 7325 | C40: ='Расходы '!C57 -> 0443 | D40: ='Расходы '!D57 -> Будівництво1 споруд, установ та закладів фізичної культури і спорту | E40: Програма економічного і соціального розвитку Курахівської міської територіальної громади на 2022 рік | G40: =H40+I40 -> 0 | H40: ='Расходы '!E57 -> 0 | I40: ='Расходы '!K57 -> 0 | J40: ='Расходы '!L57 -> 0
A41: ='Расходы '!A58 -> 0 | B41: ='Расходы '!B58 -> 7330 | C41: ='Расходы '!C58 -> 0443 | D41: ='Расходы '!D58 -> Будівництво1 інших об'єктів комунальної власності | E41: Програма економічного і соціального розвитку Курахівської міської територіальної громади на 2022 рік | G41: =H41+I41 -> 0 | H41: ='Расходы '!E58 -> 0 | I41: ='Расходы '!K58 -> 0 | J41: ='Расходы '!L58 -> 0
A42: ='Расходы '!A59 -> 0117350 | B42: ='Расходы '!B59 -> 7350 | C42: ='Расходы '!C59 -> 0443 | D42: ='Расходы '!D59 -> Розроблення схем планування та забудови територій (містобудівної документації) | E42: Програма економічного і соціального розвитку Курахівської міської територіальної громади на 2022 рік | G42: =H42+I42 -> 0 | H42: ='Расходы '!E59 -> 0 | I42: ='Расходы '!K59 -> 0 | J42: ='Расходы '!L59 -> 0
...
